Workbook

Sheet Legende
A1: Kostenstellen | B1: Abk.
A2: Fahrzeuge | B2: FZ
A3: Personal | B3: PE
A4: Gebäude | B4: Gb
A5: Verwaltung | B5: VW
A6: Kostenträger
A7: Einsatzleitwagen1 | B7: ELW1
A8: Gerätewagen Gefahrgut | B8: GWG
A9: Gerätewagen Logistik | B9: GWL
A10: Hilfeleistungslöschfahrzeug | B10: HLF 20
A11: Kleineinsatzfahrzeug | B11: KEF
A12: Kommandowagen | B12: KdoW
A13: Abrollbehälter Wasser/Schaum | B13: AB Wasser
A14: Abrollbehälter Mulde | B14: AB Mulde
A15: Löschgruppenfahrzeug LF 16 TS | B15: LF 16 TS
A16: Löschgruppenfahrzeug LF 20 | B16: LF 20
A17: Mannschaftstransportfahrzeug | B17: MTF
A18: Rüstwagen | B18: RW
... A20: Wechselladerfahrzeug | B20: WLF26

Sheet Anlagen
A1: Nr. | B1: AA-Nr. | C1: Anlagebezeichnung | D1: Förder-mittel | E1: AJ | F1: ND | G1: LAJ | H1: Anteil FW | I1: Gesamtbetrag | J1: Wert Anteil FW | K1: KST/KT | L1: 2016 | M1: =+L1+1 -> 2017 | N1: =+M1+1 -> 2018 | O1: Abschreibungen | P1: =+L1 -> 2016 | Q1: =+M1 -> 2017 | R1: =+N1 -> 2018 | S1: Zinsen | T1: 0.065
A2: 1 | B2: 00002095 | C2: Taurus Laufband T9.7 | D2: 0 | E2: 2009 | F2: 10 | G2: =IF(ISBLANK(F2),"",+E2+F2-1) -> 2018 | H2: 1 | I2: 2184.05 | J2: =+I2*H2 -> 2184.05 | K2: PE | L2: =+IF(L$1<$E2,0,IF(L$1>$G2,0,IF($F2="",0,IF(AND($J2<0,$T$3=1),0,$J2/$F2))))*(1-$D2) -> 218.405 | M2: =+IF(M$1<$E2,0,IF(M$1>$G2,0,IF($F2="",0,IF(AND($J2<0,$T$3=1),0,$J2/$F2))))*(1-$D2) -> 218.405 | N2: =+IF(N$1<$E2,0,IF(N$1>$G2,0,IF($F2="",0,IF(AND($J2<0,$T$3=1),0,$J2/$F2))))*(1-$D2) -> 218.405 | P2: =+IF(P$1<$E2,0,IF(P$1>$G2,0,$J2*IF($F2="",1,CHOOSE($T$2,1-((P$1-$E2)/$F2),0.5))))*$T$1*(1-$D2) -> 42.588975 | Q2: =+IF(Q$1<$E2,0,IF(Q$1>$G2,0,$J2*IF($F2="",1,CHOOSE($T$2,1-((Q$1-$E2)/$F2),0.5))))*$T$1*(1-$D2) -> 28.39265 | R2: =+IF(R$1<$E2,0,IF(R$1>$G2,0,$J2*IF($F2="",1,CHOOSE($T$2,1-((R$1-$E2)/$F2),0.5))))*$T$1*(1-$D2) -> 14.196325 | S2: Zinsschalter | T2: 1 | U2: 1=Restbuchwert; 2=Durchnittsmethode
A3: 2 | B3: 00003316 | C3: Ergometer Lifefitness FW C3, 32-4 | D3: 0 | E3: 2011 | F3: 10 | G3: =IF(ISBLANK(F3),"",+E3+F3-1) -> 2020 | H3: 1 | I3: 2275 | J3: =+I3*H3 -> 2275 | K3: PE | L3: =+IF(L$1<$E3,0,IF(L$1>$G3,0,IF($F3="",0,IF(AND($J3<0,$T$3=1),0,$J3/$F3))))*(1-$D3) -> 227.5 | M3: =+IF(M$1<$E3,0,IF(M$1>$G3,0,IF($F3="",0,IF(AND($J3<0,$T$3=1),0,$J3/$F3))))*(1-$D3) -> 227.5 | N3: =+IF(N$1<$E3,0,IF(N$1>$G3,0,IF($F3="",0,IF(AND($J3<0,$T$3=1),0,$J3/$F3))))*(1-$D3) -> 227.5 | P3: =+IF(P$1<$E3,0,IF(P$1>$G3,0,$J3*IF($F3="",1,CHOOSE($T$2,1-((P$1-$E3)/$F3),0.5))))*$T$1*(1-$D3) -> 73.9375 | Q3: =+IF(Q$1<$E3,0,IF(Q$1>$G3,0,$J3*IF($F3="",1,CHOOSE($T$2,1-((Q$1-$E3)/$F3),0.5))))*$T$1*(1-$D3) -> 59.15 | R3: =+IF(R$1<$E3,0,IF(R$1>$G3,0,$J3*IF($F3="",1,CHOOSE($T$2,1-((R$1-$E3)/$F3),0.5))))*$T$1*(1-$D3) -> 44.3625 | S3: Zuschuss-schalter Afa | T3: 1 | U3: 1=OHNE Zuschüsse; 2=MIT Zuschüsse (gebührenentlastend)
A4: 3 | B4: 00004965 | C4: Hoist PTS-1000 Multipresse | D4: 0 | E4: 2012 | F4: 10 | G4: =IF(ISBLANK(F4),"",+E4+F4-1) -> 2021 | H4: 1 | I4: 3497.05 | J4: =+I4*H4 -> 3497.05 | K4: PE | L4: =+IF(L$1<$E4,0,IF(L$1>$G4,0,IF($F4="",0,IF(AND($J4<0,$T$3=1),0,$J4/$F4))))*(1-$D4) -> 349.705 | M4: =+IF(M$1<$E4,0,IF(M$1>$G4,0,IF($F4="",0,IF(AND($J4<0,$T$3=1),0,$J4/$F4))))*(1-$D4) -> 349.705 | N4: =+IF(N$1<$E4,0,IF(N$1>$G4,0,IF($F4="",0,IF(AND($J4<0,$T$3=1),0,$J4/$F4))))*(1-$D4) -> 349.705 | P4: =+IF(P$1<$E4,0,IF(P$1>$G4,0,$J4*IF($F4="",1,CHOOSE($T$2,1-((P$1-$E4)/$F4),0.5))))*$T$1*(1-$D4) -> 136.38495 | Q4: =+IF(Q$1<$E4,0,IF(Q$1>$G4,0,$J4*IF($F4="",1,CHOOSE($T$2,1-((Q$1-$E4)/$F4),0.5))))*$T$1*(1-$D4) -> 113.65413 | R4: =+IF(R$1<$E4,0,IF(R$1>$G4,0,$J4*IF($F4="",1,CHOOSE($T$2,1-((R$1-$E4)/$F4),0.5))))*$T$1*(1-$D4) -> 90.9233
A5: 4 | B5: 00004975 | C5: Taurus Professional Kurzhantel-Trainingssystem | D5: 0 | E5: 2012 | F5: 10 | G5: =IF(ISBLANK(F5),"",+E5+F5-1) -> 2021 | H5: 1 | I5: 1397.92 | J5: =+I5*H5 -> 1397.92 | K5: PE | L5: =+IF(L$1<$E5,0,IF(L$1>$G5,0,IF($F5="",0,IF(AND($J5<0,$T$3=1),0,$J5/$F5))))*(1-$D5) -> 139.792 | M5: =+IF(M$1<$E5,0,IF(M$1>$G5,0,IF($F5="",0,IF(AND($J5<0,$T$3=1),0,$J5/$F5))))*(1-$D5) -> 139.792 | N5: =+IF(N$1<$E5,0,IF(N$1>$G5,0,IF($F5="",0,IF(AND($J5<0,$T$3=1),0,$J5/$F5))))*(1-$D5) -> 139.792 | P5: =+IF(P$1<$E5,0,IF(P$1>$G5,0,$J5*IF($F5="",1,CHOOSE($T$2,1-((P$1-$E5)/$F5),0.5))))*$T$1*(1-$D5) -> 54.51888 | Q5: =+IF(Q$1<$E5,0,IF(Q$1>$G5,0,$J5*IF($F5="",1,CHOOSE($T$2,1-((Q$1-$E5)/$F5),0.5))))*$T$1*(1-$D5) -> 45.4324 | R5: =+IF(R$1<$E5,0,IF(R$1>$G5,0,$J5*IF($F5="",1,CHOOSE($T$2,1-((R$1-$E5)/$F5),0.5))))*$T$1*(1-$D5) -> 36.34592
A6: 5 | B6: 00002093 | C6: Rauchdemohaus | D6: 0 | E6: 2009 | F6: 10 | G6: =IF(ISBLANK(F6),"",+E6+F6-1) -> 2018 | H6: 1 | I6: 995 | J6: =+I6*H6 -> 995 | K6: PE | L6: =+IF(L$1<$E6,0,IF(L$1>$G6,0,IF($F6="",0,IF(AND($J6<0,$T$3=1),0,$J6/$F6))))*(1-$D6) -> 99.5 | M6: =+IF(M$1<$E6,0,IF(M$1>$G6,0,IF($F6="",0,IF(AND($J6<0,$T$3=1),0,$J6/$F6))))*(1-$D6) -> 99.5 | N6: =+IF(N$1<$E6,0,IF(N$1>$G6,0,IF($F6="",0,IF(AND($J6<0,$T$3=1),0,$J6/$F6))))*(1-$D6) -> 99.5 | P6: =+IF(P$1<$E6,0,IF(P$1>$G6,0,$J6*IF($F6="",1,CHOOSE($T$2,1-((P$1-$E6)/$F6),0.5))))*$T$1*(1-$D6) -> 19.4025 | Q6: =+IF(Q$1<$E6,0,IF(Q$1>$G6,0,$J6*IF($F6="",1,CHOOSE($T$2,1-((Q$1-$E6)/$F6),0.5))))*$T$1*(1-$D6) -> 12.935 | R6: =+IF(R$1<$E6,0,IF(R$1>$G6,0,$J6*IF($F6="",1,CHOOSE($T$2,1-((R$1-$E6)/$F6),0.5))))*$T$1*(1-$D6) -> 6.4675
A7: 6 | B7: 00002098 | C7: Atemschutzüberwachungstafel Solingen E-30 FW | D7: 0 | E7: 2009 | F7: 10 | G7: =IF(ISBLANK(F7),"",+E7+F7-1) -> 2018 | H7: 1 | I7: 730.3 | J7: =+I7*H7 -> 730.3 | K7: FZ | L7: =+IF(L$1<$E7,0,IF(L$1>$G7,0,IF($F7="",0,IF(AND($J7<0,$T$3=1),0,$J7/$F7))))*(1-$D7) -> 73.03 | M7: =+IF(M$1<$E7,0,IF(M$1>$G7,0,IF($F7="",0,IF(AND($J7<0,$T$3=1),0,$J7/$F7))))*(1-$D7) -> 73.03 | N7: =+IF(N$1<$E7,0,IF(N$1>$G7,0,IF($F7="",0,IF(AND($J7<0,$T$3=1),0,$J7/$F7))))*(1-$D7) -> 73.03 | P7: =+IF(P$1<$E7,0,IF(P$1>$G7,0,$J7*IF($F7="",1,CHOOSE($T$2,1-((P$1-$E7)/$F7),0.5))))*$T$1*(1-$D7) -> 14.24085 | Q7: =+IF(Q$1<$E7,0,IF(Q$1>$G7,0,$J7*IF($F7="",1,CHOOSE($T$2,1-((Q$1-$E7)/$F7),0.5))))*$T$1*(1-$D7) -> 9.4939 | R7: =+IF(R$1<$E7,0,IF(R$1>$G7,0,$J7*IF($F7="",1,CHOOSE($T$2,1-((R$1-$E7)/$F7),0.5))))*$T$1*(1-$D7) -> 4.74695
A8: 7 | B8: 00002100 | C8: Schneidgerät S 270-71 FW | D8: 0 | E8: 2009 | F8: 10 | G8: =IF(ISBLANK(F8),"",+E8+F8-1) -> 2018 | H8: 1 | I8: 3247.63 | J8: =+I8*H8 -> 3247.63 | K8: FZ | L8: =+IF(L$1<$E8,0,IF(L$1>$G8,0,IF($F8="",0,IF(AND($J8<0,$T$3=1),0,$J8/$F8))))*(1-$D8) -> 324.763 | M8: =+IF(M$1<$E8,0,IF(M$1>$G8,0,IF($F8="",0,IF(AND($J8<0,$T$3=1),0,$J8/$F8))))*(1-$D8) -> 324.763 | N8: =+IF(N$1<$E8,0,IF(N$1>$G8,0,IF($F8="",0,IF(AND($J8<0,$T$3=1),0,$J8/$F8))))*(1-$D8) -> 324.763 | P8: =+IF(P$1<$E8,0,IF(P$1>$G8,0,$J8*IF($F8="",1,CHOOSE($T$2,1-((P$1-$E8)/$F8),0.5))))*$T$1*(1-$D8) -> 63.328785 | Q8: =+IF(Q$1<$E8,0,IF(Q$1>$G8,0,$J8*IF($F8="",1,CHOOSE($T$2,1-((Q$1-$E8)/$F8),0.5))))*$T$1*(1-$D8) -> 42.21919 | R8: =+IF(R$1<$E8,0,IF(R$1>$G8,0,$J8*IF($F8="",1,CHOOSE($T$2,1-((R$1-$E8)/$F8),0.5))))*$T$1*(1-$D8) -> 21.109595
A9: 8 | B9: 00002600 | C9: Druckschläuche-Set FW | D9: 0 | E9: 2010 | F9: 10 | G9: =IF(ISBLANK(F9),"",+E9+F9-1) -> 2019 | H9: 1 | I9: 506.6 | J9: =+I9*H9 -> 506.6 | K9: FZ | L9: =+IF(L$1<$E9,0,IF(L$1>$G9,0,IF($F9="",0,IF(AND($J9<0,$T$3=1),0,$J9/$F9))))*(1-$D9) -> 50.66 | M9: =+IF(M$1<$E9,0,IF(M$1>$G9,0,IF($F9="",0,IF(AND($J9<0,$T$3=1),0,$J9/$F9))))*(1-$D9) -> 50.66 | N9: =+IF(N$1<$E9,0,IF(N$1>$G9,0,IF($F9="",0,IF(AND($J9<0,$T$3=1),0,$J9/$F9))))*(1-$D9) -> 50.66 | P9: =+IF(P$1<$E9,0,IF(P$1>$G9,0,$J9*IF($F9="",1,CHOOSE($T$2,1-((P$1-$E9)/$F9),0.5))))*$T$1*(1-$D9) -> 13.1716 | Q9: =+IF(Q$1<$E9,0,IF(Q$1>$G9,0,$J9*IF($F9="",1,CHOOSE($T$2,1-((Q$1-$E9)/$F9),0.5))))*$T$1*(1-$D9) -> 9.8787 | R9: =+IF(R$1<$E9,0,IF(R$1>$G9,0,$J9*IF($F9="",1,CHOOSE($T$2,1-((R$1-$E9)/$F9),0.5))))*$T$1*(1-$D9) -> 6.5858
A10: 9 | B10: 00002601 | C10: Atemschutzüberwachungstafel E30 FW | D10: 0 | E10: 2010 | F10: 10 | G10: =IF(ISBLANK(F10),"",+E10+F10-1) -> 2019 | H10: 1 | I10: 689.72 | J10: =+I10*H10 -> 689.72 | K10: FZ | L10: =+IF(L$1<$E10,0,IF(L$1>$G10,0,IF($F10="",0,IF(AND($J10<0,$T$3=1),0,$J10/$F10))))*(1-$D10) -> 68.972 | M10: =+IF(M$1<$E10,0,IF(M$1>$G10,0,IF($F10="",0,IF(AND($J10<0,$T$3=1),0,$J10/$F10))))*(1-$D10) -> 68.972 | N10: =+IF(N$1<$E10,0,IF(N$1>$G10,0,IF($F10="",0,IF(AND($J10<0,$T$3=1),0,$J10/$F10))))*(1-$D10) -> 68.972 | P10: =+IF(P$1<$E10,0,IF(P$1>$G10,0,$J10*IF($F10="",1,CHOOSE($T$2,1-((P$1-$E10)/$F10),0.5))))*$T$1*(1-$D10) -> 17.93272 | Q10: =+IF(Q$1<$E10,0,IF(Q$1>$G10,0,$J10*IF($F10="",1,CHOOSE($T$2,1-((Q$1-$E10)/$F10),0.5))))*$T$1*(1-$D10) -> 13.44954 | R10: =+IF(R$1<$E10,0,IF(R$1>$G10,0,$J10*IF($F10="",1,CHOOSE($T$2,1-((R$1-$E10)/$F10),0.5))))*$T$1*(1-$D10) -> 8.96636
A11: 10 | B11: 00005551 | C11: MicroDock II GasAlert Quatro - Gaswarngerät | D11: 0 | E11: 2013 | F11: 10 | G11: =IF(ISBLANK(F11),"",+E11+F11-1) -> 2022 | H11: 1 | I11: 2260.1 | J11: =+I11*H11 -> 2260.1 | K11: FZ | L11: =+IF(L$1<$E11,0,IF(L$1>$G11,0,IF($F11="",0,IF(AND($J11<0,$T$3=1),0,$J11/$F11))))*(1-$D11) -> 226.01 | M11: =+IF(M$1<$E11,0,IF(M$1>$G11,0,IF($F11="",0,IF(AND($J11<0,$T$3=1),0,$J11/$F11))))*(1-$D11) -> 226.01 | N11: =+IF(N$1<$E11,0,IF(N$1>$G11,0,IF($F11="",0,IF(AND($J11<0,$T$3=1),0,$J11/$F11))))*(1-$D11) -> 226.01 | P11: =+IF(P$1<$E11,0,IF(P$1>$G11,0,$J11*IF($F11="",1,CHOOSE($T$2,1-((P$1-$E11)/$F11),0.5))))*$T$1*(1-$D11) -> 102.83455 | Q11: =+IF(Q$1<$E11,0,IF(Q$1>$G11,0,$J11*IF($F11="",1,CHOOSE($T$2,1-((Q$1-$E11)/$F11),0.5))))*$T$1*(1-$D11) -> 88.1439 | R11: =+IF(R$1<$E11,0,IF(R$1>$G11,0,$J11*IF($F11="",1,CHOOSE($T$2,1-((R$1-$E11)/$F11),0.5))))*$T$1*(1-$D11) -> 73.45325
A12: 11 | B12: 00006633 | C12: Messtruppkoffer GW-G mit PErsonendosimeter ED | D12: 0 | E12: 2015 | F12: 10 | G12: =IF(ISBLANK(F12),"",+E12+F12-1) -> 2024 | H12: 1 | I12: 9383.26 | J12: =+I12*H12 -> 9383.26 | K12: FZ | L12: =+IF(L$1<$E12,0,IF(L$1>$G12,0,IF($F12="",0,IF(AND($J12<0,$T$3=1),0,$J12/$F12))))*(1-$D12) -> 938.326 | M12: =+IF(M$1<$E12,0,IF(M$1>$G12,0,IF($F12="",0,IF(AND($J12<0,$T$3=1),0,$J12/$F12))))*(1-$D12) -> 938.326 | N12: =+IF(N$1<$E12,0,IF(N$1>$G12,0,IF($F12="",0,IF(AND($J12<0,$T$3=1),0,$J12/$F12))))*(1-$D12) -> 938.326 | P12: =+IF(P$1<$E12,0,IF(P$1>$G12,0,$J12*IF($F12="",1,CHOOSE($T$2,1-((P$1-$E12)/$F12),0.5))))*$T$1*(1-$D12) -> 548.92071 | Q12: =+IF(Q$1<$E12,0,IF(Q$1>$G12,0,$J12*IF($F12="",1,CHOOSE($T$2,1-((Q$1-$E12)/$F12),0.5))))*$T$1*(1-$D12) -> 487.92952 | R12: =+IF(R$1<$E12,0,IF(R$1>$G12,0,$J12*IF($F12="",1,CHOOSE($T$2,1-((R$1-$E12)/$F12),0.5))))*$T$1*(1-$D12) -> 426.93833
A13: 12 | B13: 00002597 | C13: Zugkraftmessgerät Dynamometer 04 FW | D13: 0 | E13: 2010 | F13: 10 | G13: =IF(ISBLANK(F13),"",+E13+F13-1) -> 2019 | H13: 1 | I13: 1235.93 | J13: =+I13*H13 -> 1235.93 | K13: FZ | L13: =+IF(L$1<$E13,0,IF(L$1>$G13,0,IF($F13="",0,IF(AND($J13<0,$T$3=1),0,$J13/$F13))))*(1-$D13) -> 123.593 | M13: =+IF(M$1<$E13,0,IF(M$1>$G13,0,IF($F13="",0,IF(AND($J13<0,$T$3=1),0,$J13/$F13))))*(1-$D13) -> 123.593 | N13: =+IF(N$1<$E13,0,IF(N$1>$G13,0,IF($F13="",0,IF(AND($J13<0,$T$3=1),0,$J13/$F13))))*(1-$D13) -> 123.593 | P13: =+IF(P$1<$E13,0,IF(P$1>$G13,0,$J13*IF($F13="",1,CHOOSE($T$2,1-((P$1-$E13)/$F13),0.5))))*$T$1*(1-$D13) -> 32.13418 | Q13: =+IF(Q$1<$E13,0,IF(Q$1>$G13,0,$J13*IF($F13="",1,CHOOSE($T$2,1-((Q$1-$E13)/$F13),0.5))))*$T$1*(1-$D13) -> 24.100635 | R13: =+IF(R$1<$E13,0,IF(R$1>$G13,0,$J13*IF($F13="",1,CHOOSE($T$2,1-((R$1-$E13)/$F13),0.5))))*$T$1*(1-$D13) -> 16.06709
A14: 13 | B14: 00002598 | C14: Pressluftatmer+Lungenautomat PSS (1/2) FW | D14: 0 | E14: 2010 | F14: 10 | G14: =IF(ISBLANK(F14),"",+E14+F14-1) -> 2019 | H14: 1 | I14: 1457.29 | J14: =+I14*H14 -> 1457.29 | K14: FZ | L14: =+IF(L$1<$E14,0,IF(L$1>$G14,0,IF($F14="",0,IF(AND($J14<0,$T$3=1),0,$J14/$F14))))*(1-$D14) -> 145.729 | M14: =+IF(M$1<$E14,0,IF(M$1>$G14,0,IF($F14="",0,IF(AND($J14<0,$T$3=1),0,$J14/$F14))))*(1-$D14) -> 145.729 | N14: =+IF(N$1<$E14,0,IF(N$1>$G14,0,IF($F14="",0,IF(AND($J14<0,$T$3=1),0,$J14/$F14))))*(1-$D14) -> 145.729 | P14: =+IF(P$1<$E14,0,IF(P$1>$G14,0,$J14*IF($F14="",1,CHOOSE($T$2,1-((P$1-$E14)/$F14),0.5))))*$T$1*(1-$D14) -> 37.88954 | Q14: =+IF(Q$1<$E14,0,IF(Q$1>$G14,0,$J14*IF($F14="",1,CHOOSE($T$2,1-((Q$1-$E14)/$F14),0.5))))*$T$1*(1-$D14) -> 28.417155 | R14: =+IF(R$1<$E14,0,IF(R$1>$G14,0,$J14*IF($F14="",1,CHOOSE($T$2,1-((R$1-$E14)/$F14),0.5))))*$T$1*(1-$D14) -> 18.94477
A15: 14 | B15: 00004952 | C15: Set Lungenautomaten | D15: 0 | E15: 2012 | F15: 10 | G15: =IF(ISBLANK(F15),"",+E15+F15-1) -> 2021 | H15: 1 | I15: 6881.05 | J15: =+I15*H15 -> 6881.05 | K15: FZ | L15: =+IF(L$1<$E15,0,IF(L$1>$G15,0,IF($F15="",0,IF(AND($J15<0,$T$3=1),0,$J15/$F15))))*(1-$D15) -> 688.105 | M15: =+IF(M$1<$E15,0,IF(M$1>$G15,0,IF($F15="",0,IF(AND($J15<0,$T$3=1),0,$J15/$F15))))*(1-$D15) -> 688.105 | N15: =+IF(N$1<$E15,0,IF(N$1>$G15,0,IF($F15="",0,IF(AND($J15<0,$T$3=1),0,$J15/$F15))))*(1-$D15) -> 688.105 | P15: =+IF(P$1<$E15,0,IF(P$1>$G15,0,$J15*IF($F15="",1,CHOOSE($T$2,1-((P$1-$E15)/$F15),0.5))))*$T$1*(1-$D15) -> 268.36095 | Q15: =+IF(Q$1<$E15,0,IF(Q$1>$G15,0,$J15*IF($F15="",1,CHOOSE($T$2,1-((Q$1-$E15)/$F15),0.5))))*$T$1*(1-$D15) -> 223.63413 | R15: =+IF(R$1<$E15,0,IF(R$1>$G15,0,$J15*IF($F15="",1,CHOOSE($T$2,1-((R$1-$E15)/$F15),0.5))))*$T$1*(1-$D15) -> 178.9073
... A21: 20 | B21: 00002088 | C21: TeamMaster Pro-ET Grundanzug FW | D21: 0 | E21: 2009 | F21: 4 | G21: =IF(ISBLANK(F21),"",+E21+F21-1) -> 2012 | H21: 1 | I21: 2038.42 | J21: =+I21*H21 -> 2038.42 | K21: FZ | L21: =+IF(L$1<$E21,0,IF(L$1>$G21,0,IF($F21="",0,IF(AND($J21<0,$T$3=1),0,$J21/$F21))))*(1-$D21) -> 0 | M21: =+IF(M$1<$E21,0,IF(M$1>$G21,0,IF($F21="",0,IF(AND($J21<0,$T$3=1),0,$J21/$F21))))*(1-$D21) -> 0 | N21: =+IF(N$1<$E21,0,IF(N$1>$G21,0,IF($F21="",0,IF(AND($J21<0,$T$3=1),0,$J21/$F21))))*(1-$D21) -> 0 | P21: =+IF(P$1<$E21,0,IF(P$1>$G21,0,$J21*IF($F21="",1,CHOOSE($T$2,1-((P$1-$E21)/$F21),0.5))))*$T$1*(1-$D21) -> 0 | Q21: =+IF(Q$1<$E21,0,IF(Q$1>$G21,0,$J21*IF($F21="",1,CHOOSE($T$2,1-((Q$1-$E21)/$F21),0.5))))*$T$1*(1-$D21) -> 0 | R21: =+IF(R$1<$E21,0,IF(R$1>$G21,0,$J21*IF($F21="",1,CHOOSE($T$2,1-((R$1-$E21)/$F21),0.5))))*$T$1*(1-$D21) -> 0
A22: 21 | B22: 00005684 | C22: ME-HA 204 Plywood-Anhänger Jugendfeuerwehr | D22: 0 | E22: 2013 | F22: 15 | G22: =IF(ISBLANK(F22),"",+E22+F22-1) -> 2027 | H22: 1 | I22: 2618 | J22: =+I22*H22 -> 2618 | L22: =+IF(L$1<$E22,0,IF(L$1>$G22,0,IF($F22="",0,IF(AND($J22<0,$T$3=1),0,$J22/$F22))))*(1-$D22) -> 174.53333 | M22: =+IF(M$1<$E22,0,IF(M$1>$G22,0,IF($F22="",0,IF(AND($J22<0,$T$3=1),0,$J22/$F22))))*(1-$D22) -> 174.53333 | N22: =+IF(N$1<$E22,0,IF(N$1>$G22,0,IF($F22="",0,IF(AND($J22<0,$T$3=1),0,$J22/$F22))))*(1-$D22) -> 174.53333 | P22: =+IF(P$1<$E22,0,IF(P$1>$G22,0,$J22*IF($F22="",1,CHOOSE($T$2,1-((P$1-$E22)/$F22),0.5))))*$T$1*(1-$D22) -> 136.136 | Q22: =+IF(Q$1<$E22,0,IF(Q$1>$G22,0,$J22*IF($F22="",1,CHOOSE($T$2,1-((Q$1-$E22)/$F22),0.5))))*$T$1*(1-$D22) -> 124.79133 | R22: =+IF(R$1<$E22,0,IF(R$1>$G22,0,$J22*IF($F22="",1,CHOOSE($T$2,1-((R$1-$E22)/$F22),0.5))))*$T$1*(1-$D22) -> 113.44667
A23: 22 | B23: 00005878 | C23: ME-2076 Bindemittelanhänger | D23: 0 | E23: 2014 | F23: 15 | G23: =IF(ISBLANK(F23),"",+E23+F23-1) -> 2028 | H23: 1 | I23: 1 | J23: =+I23*H23 -> 1 | K23: FZ | L23: =+IF(L$1<$E23,0,IF(L$1>$G23,0,IF($F23="",0,IF(AND($J23<0,$T$3=1),0,$J23/$F23))))*(1-$D23) -> 0.066666667 | M23: =+IF(M$1<$E23,0,IF(M$1>$G23,0,IF($F23="",0,IF(AND($J23<0,$T$3=1),0,$J23/$F23))))*(1-$D23) -> 0.066666667 | N23: =+IF(N$1<$E23,0,IF(N$1>$G23,0,IF($F23="",0,IF(AND($J23<0,$T$3=1),0,$J23/$F23))))*(1-$D23) -> 0.066666667 | P23: =+IF(P$1<$E23,0,IF(P$1>$G23,0,$J23*IF($F23="",1,CHOOSE($T$2,1-((P$1-$E23)/$F23),0.5))))*$T$1*(1-$D23) -> 0.056333333 | Q23: =+IF(Q$1<$E23,0,IF(Q$1>$G23,0,$J23*IF($F23="",1,CHOOSE($T$2,1-((Q$1-$E23)/$F23),0.5))))*$T$1*(1-$D23) -> 0.052 | R23: =+IF(R$1<$E23,0,IF(R$1>$G23,0,$J23*IF($F23="",1,CHOOSE($T$2,1-((R$1-$E23)/$F23),0.5))))*$T$1*(1-$D23) -> 0.047666667
A24: 23 | B24: 00006615 | C24: ME-HA 281 Anhängeleiter | D24: 0 | E24: 2015 | F24: 15 | G24: =IF(ISBLANK(F24),"",+E24+F24-1) -> 2029 | H24: 1 | I24: 1999.2 | J24: =+I24*H24 -> 1999.2 | K24: FZ | L24: =+IF(L$1<$E24,0,IF(L$1>$G24,0,IF($F24="",0,IF(AND($J24<0,$T$3=1),0,$J24/$F24))))*(1-$D24) -> 133.28 | M24: =+IF(M$1<$E24,0,IF(M$1>$G24,0,IF($F24="",0,IF(AND($J24<0,$T$3=1),0,$J24/$F24))))*(1-$D24) -> 133.28 | N24: =+IF(N$1<$E24,0,IF(N$1>$G24,0,IF($F24="",0,IF(AND($J24<0,$T$3=1),0,$J24/$F24))))*(1-$D24) -> 133.28 | P24: =+IF(P$1<$E24,0,IF(P$1>$G24,0,$J24*IF($F24="",1,CHOOSE($T$2,1-((P$1-$E24)/$F24),0.5))))*$T$1*(1-$D24) -> 121.2848 | Q24: =+IF(Q$1<$E24,0,IF(Q$1>$G24,0,$J24*IF($F24="",1,CHOOSE($T$2,1-((Q$1-$E24)/$F24),0.5))))*$T$1*(1-$D24) -> 112.6216 | R24: =+IF(R$1<$E24,0,IF(R$1>$G24,0,$J24*IF($F24="",1,CHOOSE($T$2,1-((R$1-$E24)/$F24),0.5))))*$T$1*(1-$D24) -> 103.9584
A25: 24 | B25: 00001128 | C25: ME-2291 Gerätewagen-Nachschub | D25: 0 | E25: 1999 | F25: 20 | G25: =IF(ISBLANK(F25),"",+E25+F25-1) -> 2018 | H25: 1 | I25: 69186.48 | J25: =+I25*H25 -> 69186.48 | K25: GWL | L25: =+IF(L$1<$E25,0,IF(L$1>$G25,0,IF($F25="",0,IF(AND($J25<0,$T$3=1),0,$J25/$F25))))*(1-$D25) -> 3459.324 | M25: =+IF(M$1<$E25,0,IF(M$1>$G25,0,IF($F25="",0,IF(AND($J25<0,$T$3=1),0,$J25/$F25))))*(1-$D25) -> 3459.324 | N25: =+IF(N$1<$E25,0,IF(N$1>$G25,0,IF($F25="",0,IF(AND($J25<0,$T$3=1),0,$J25/$F25))))*(1-$D25) -> 3459.324 | P25: =+IF(P$1<$E25,0,IF(P$1>$G25,0,$J25*IF($F25="",1,CHOOSE($T$2,1-((P$1-$E25)/$F25),0.5))))*$T$1*(1-$D25) -> 674.56818 | Q25: =+IF(Q$1<$E25,0,IF(Q$1>$G25,0,$J25*IF($F25="",1,CHOOSE($T$2,1-((Q$1-$E25)/$F25),0.5))))*$T$1*(1-$D25) -> 449.71212 | R25: =+IF(R$1<$E25,0,IF(R$1>$G25,0,$J25*IF($F25="",1,CHOOSE($T$2,1-((R$1-$E25)/$F25),0.5))))*$T$1*(1-$D25) -> 224.85606
A26: 25 | B26: 00001129 | C26: ME-2350 LF 16 I | D26: 0 | E26: 1998 | F26: 20 | G26: =IF(ISBLANK(F26),"",+E26+F26-1) -> 2017 | H26: 1 | I26: 239173.14 | J26: =+I26*H26 -> 239173.14 | K26: LF 20 | L26: =+IF(L$1<$E26,0,IF(L$1>$G26,0,IF($F26="",0,IF(AND($J26<0,$T$3=1),0,$J26/$F26))))*(1-$D26) -> 11958.657 | M26: =+IF(M$1<$E26,0,IF(M$1>$G26,0,IF($F26="",0,IF(AND($J26<0,$T$3=1),0,$J26/$F26))))*(1-$D26) -> 11958.657 | N26: =+IF(N$1<$E26,0,IF(N$1>$G26,0,IF($F26="",0,IF(AND($J26<0,$T$3=1),0,$J26/$F26))))*(1-$D26) -> 0 | P26: =+IF(P$1<$E26,0,IF(P$1>$G26,0,$J26*IF($F26="",1,CHOOSE($T$2,1-((P$1-$E26)/$F26),0.5))))*$T$1*(1-$D26) -> 1554.6254 | Q26: =+IF(Q$1<$E26,0,IF(Q$1>$G26,0,$J26*IF($F26="",1,CHOOSE($T$2,1-((Q$1-$E26)/$F26),0.5))))*$T$1*(1-$D26) -> 777.31271 | R26: =+IF(R$1<$E26,0,IF(R$1>$G26,0,$J26*IF($F26="",1,CHOOSE($T$2,1-((R$1-$E26)/$F26),0.5))))*$T$1*(1-$D26) -> 0
A27: 26 | B27: 00001130 | C27: ME-2501 Skania LF 16 HLF | D27: 0 | E27: 1992 | F27: 20 | G27: =IF(ISBLANK(F27),"",+E27+F27-1) -> 2011 | H27: 1 | I27: 225125 | J27: =+I27*H27 -> 225125 | L27: =+IF(L$1<$E27,0,IF(L$1>$G27,0,IF($F27="",0,IF(AND($J27<0,$T$3=1),0,$J27/$F27))))*(1-$D27) -> 0 | M27: =+IF(M$1<$E27,0,IF(M$1>$G27,0,IF($F27="",0,IF(AND($J27<0,$T$3=1),0,$J27/$F27))))*(1-$D27) -> 0 | N27: =+IF(N$1<$E27,0,IF(N$1>$G27,0,IF($F27="",0,IF(AND($J27<0,$T$3=1),0,$J27/$F27))))*(1-$D27) -> 0 | P27: =+IF(P$1<$E27,0,IF(P$1>$G27,0,$J27*IF($F27="",1,CHOOSE($T$2,1-((P$1-$E27)/$F27),0.5))))*$T$1*(1-$D27) -> 0 | Q27: =+IF(Q$1<$E27,0,IF(Q$1>$G27,0,$J27*IF($F27="",1,CHOOSE($T$2,1-((Q$1-$E27)/$F27),0.5))))*$T$1*(1-$D27) -> 0 | R27: =+IF(R$1<$E27,0,IF(R$1>$G27,0,$J27*IF($F27="",1,CHOOSE($T$2,1-((R$1-$E27)/$F27),0.5))))*$T$1*(1-$D27) -> 0
A28: 27 | B28: 00001132 | C28: ME-2653 Mercedes 308 D Gefahrgutwagen 1 | D28: 0 | E28: 1990 | F28: 20 | G28: =IF(ISBLANK(F28),"",+E28+F28-1) -> 2009 | H28: 1 | I28: 80478 | J28: =+I28*H28 -> 80478 | L28: =+IF(L$1<$E28,0,IF(L$1>$G28,0,IF($F28="",0,IF(AND($J28<0,$T$3=1),0,$J28/$F28))))*(1-$D28) -> 0 | M28: =+IF(M$1<$E28,0,IF(M$1>$G28,0,IF($F28="",0,IF(AND($J28<0,$T$3=1),0,$J28/$F28))))*(1-$D28) -> 0 | N28: =+IF(N$1<$E28,0,IF(N$1>$G28,0,IF($F28="",0,IF(AND($J28<0,$T$3=1),0,$J28/$F28))))*(1-$D28) -> 0 | P28: =+IF(P$1<$E28,0,IF(P$1>$G28,0,$J28*IF($F28="",1,CHOOSE($T$2,1-((P$1-$E28)/$F28),0.5))))*$T$1*(1-$D28) -> 0 | Q28: =+IF(Q$1<$E28,0,IF(Q$1>$G28,0,$J28*IF($F28="",1,CHOOSE($T$2,1-((Q$1-$E28)/$F28),0.5))))*$T$1*(1-$D28) -> 0 | R28: =+IF(R$1<$E28,0,IF(R$1>$G28,0,$J28*IF($F28="",1,CHOOSE($T$2,1-((R$1-$E28)/$F28),0.5))))*$T$1*(1-$D28) -> 0
A29: 28 | B29: 00001133 | C29: ME-2655 M.A.N WLF | D29: 0 | E29: 2005 | F29: 20 | G29: =IF(ISBLANK(F29),"",+E29+F29-1) -> 2024 | H29: 1 | I29: 143348 | J29: =+I29*H29 -> 143348 | K29: WLF26 | L29: =+IF(L$1<$E29,0,IF(L$1>$G29,0,IF($F29="",0,IF(AND($J29<0,$T$3=1),0,$J29/$F29))))*(1-$D29) -> 7167.4 | M29: =+IF(M$1<$E29,0,IF(M$1>$G29,0,IF($F29="",0,IF(AND($J29<0,$T$3=1),0,$J29/$F29))))*(1-$D29) -> 7167.4 | N29: =+IF(N$1<$E29,0,IF(N$1>$G29,0,IF($F29="",0,IF(AND($J29<0,$T$3=1),0,$J29/$F29))))*(1-$D29) -> 7167.4 | P29: =+IF(P$1<$E29,0,IF(P$1>$G29,0,$J29*IF($F29="",1,CHOOSE($T$2,1-((P$1-$E29)/$F29),0.5))))*$T$1*(1-$D29) -> 4192.929 | Q29: =+IF(Q$1<$E29,0,IF(Q$1>$G29,0,$J29*IF($F29="",1,CHOOSE($T$2,1-((Q$1-$E29)/$F29),0.5))))*$T$1*(1-$D29) -> 3727.048 | R29: =+IF(R$1<$E29,0,IF(R$1>$G29,0,$J29*IF($F29="",1,CHOOSE($T$2,1-((R$1-$E29)/$F29),0.5))))*$T$1*(1-$D29) -> 3261.167 | S29: mit AB Wasser
A30: 29 | B30: 00001133.1 | C30: AB Wasser | D30: 0 | E30: 2005 | F30: 20 | G30: =IF(ISBLANK(F30),"",+E30+F30-1) -> 2024 | H30: 1 | I30: 86640 | J30: =+I30*H30 -> 86640 | K30: AB Wasser | L30: =+IF(L$1<$E30,0,IF(L$1>$G30,0,IF($F30="",0,IF(AND($J30<0,$T$3=1),0,$J30/$F30))))*(1-$D30) -> 4332 | M30: =+IF(M$1<$E30,0,IF(M$1>$G30,0,IF($F30="",0,IF(AND($J30<0,$T$3=1),0,$J30/$F30))))*(1-$D30) -> 4332 | N30: =+IF(N$1<$E30,0,IF(N$1>$G30,0,IF($F30="",0,IF(AND($J30<0,$T$3=1),0,$J30/$F30))))*(1-$D30) -> 4332 | P30: =+IF(P$1<$E30,0,IF(P$1>$G30,0,$J30*IF($F30="",1,CHOOSE($T$2,1-((P$1-$E30)/$F30),0.5))))*$T$1*(1-$D30) -> 2534.22 | Q30: =+IF(Q$1<$E30,0,IF(Q$1>$G30,0,$J30*IF($F30="",1,CHOOSE($T$2,1-((Q$1-$E30)/$F30),0.5))))*$T$1*(1-$D30) -> 2252.64 | R30: =+IF(R$1<$E30,0,IF(R$1>$G30,0,$J30*IF($F30="",1,CHOOSE($T$2,1-((R$1-$E30)/$F30),0.5))))*$T$1*(1-$D30) -> 1971.06
A31: 30 | B31: 00001133.2 | C31: AB Mulde | D31: 0 | E31: 2005 | F31: 20 | G31: =IF(ISBLANK(F31),"",+E31+F31-1) -> 2024 | H31: 1 | I31: 6064 | J31: =+I31*H31 -> 6064 | K31: AB Mulde | L31: =+IF(L$1<$E31,0,IF(L$1>$G31,0,IF($F31="",0,IF(AND($J31<0,$T$3=1),0,$J31/$F31))))*(1-$D31) -> 303.2 | M31: =+IF(M$1<$E31,0,IF(M$1>$G31,0,IF($F31="",0,IF(AND($J31<0,$T$3=1),0,$J31/$F31))))*(1-$D31) -> 303.2 | N31: =+IF(N$1<$E31,0,IF(N$1>$G31,0,IF($F31="",0,IF(AND($J31<0,$T$3=1),0,$J31/$F31))))*(1-$D31) -> 303.2 | P31: =+IF(P$1<$E31,0,IF(P$1>$G31,0,$J31*IF($F31="",1,CHOOSE($T$2,1-((P$1-$E31)/$F31),0.5))))*$T$1*(1-$D31) -> 177.372 | Q31: =+IF(Q$1<$E31,0,IF(Q$1>$G31,0,$J31*IF($F31="",1,CHOOSE($T$2,1-((Q$1-$E31)/$F31),0.5))))*$T$1*(1-$D31) -> 157.664 | R31: =+IF(R$1<$E31,0,IF(R$1>$G31,0,$J31*IF($F31="",1,CHOOSE($T$2,1-((R$1-$E31)/$F31),0.5))))*$T$1*(1-$D31) -> 137.956
A32: 31 | B32: 00001135 | C32: ME-2714 VW T5 KEF (Gerätewagen) | D32: 0 | E32: 2006 | F32: 20 | G32: =IF(ISBLANK(F32),"",+E32+F32-1) -> 2025 | H32: 1 | I32: 51042.66 | J32: =+I32*H32 -> 51042.66 | K32: KEF | L32: =+IF(L$1<$E32,0,IF(L$1>$G32,0,IF($F32="",0,IF(AND($J32<0,$T$3=1),0,$J32/$F32))))*(1-$D32) -> 2552.133 | M32: =+IF(M$1<$E32,0,IF(M$1>$G32,0,IF($F32="",0,IF(AND($J32<0,$T$3=1),0,$J32/$F32))))*(1-$D32) -> 2552.133 | N32: =+IF(N$1<$E32,0,IF(N$1>$G32,0,IF($F32="",0,IF(AND($J32<0,$T$3=1),0,$J32/$F32))))*(1-$D32) -> 2552.133 | P32: =+IF(P$1<$E32,0,IF(P$1>$G32,0,$J32*IF($F32="",1,CHOOSE($T$2,1-((P$1-$E32)/$F32),0.5))))*$T$1*(1-$D32) -> 1658.8865 | Q32: =+IF(Q$1<$E32,0,IF(Q$1>$G32,0,$J32*IF($F32="",1,CHOOSE($T$2,1-((Q$1-$E32)/$F32),0.5))))*$T$1*(1-$D32) -> 1492.9978 | R32: =+IF(R$1<$E32,0,IF(R$1>$G32,0,$J32*IF($F32="",1,CHOOSE($T$2,1-((R$1-$E32)/$F32),0.5))))*$T$1*(1-$D32) -> 1327.1092
A33: 32 | B33: 00001137 | C33: ME-2860 Mercedes LF 16 | D33: 0 | E33: 1987 | F33: 20 | G33: =IF(ISBLANK(F33),"",+E33+F33-1) -> 2006 | H33: 1 | I33: 146585 | J33: =+I33*H33 -> 146585 | K33: LF 20 | L33: =+IF(L$1<$E33,0,IF(L$1>$G33,0,IF($F33="",0,IF(AND($J33<0,$T$3=1),0,$J33/$F33))))*(1-$D33) -> 0 | M33: =+IF(M$1<$E33,0,IF(M$1>$G33,0,IF($F33="",0,IF(AND($J33<0,$T$3=1),0,$J33/$F33))))*(1-$D33) -> 0 | N33: =+IF(N$1<$E33,0,IF(N$1>$G33,0,IF($F33="",0,IF(AND($J33<0,$T$3=1),0,$J33/$F33))))*(1-$D33) -> 0 | P33: =+IF(P$1<$E33,0,IF(P$1>$G33,0,$J33*IF($F33="",1,CHOOSE($T$2,1-((P$1-$E33)/$F33),0.5))))*$T$1*(1-$D33) -> 0 | Q33: =+IF(Q$1<$E33,0,IF(Q$1>$G33,0,$J33*IF($F33="",1,CHOOSE($T$2,1-((Q$1-$E33)/$F33),0.5))))*$T$1*(1-$D33) -> 0 | R33: =+IF(R$1<$E33,0,IF(R$1>$G33,0,$J33*IF($F33="",1,CHOOSE($T$2,1-((R$1-$E33)/$F33),0.5))))*$T$1*(1-$D33) -> 0
A34: 33 | B34: 00001138 | C34: ME-6180 VW T5 ELW 1 | D34: 0 | E34: 2004 | F34: 20 | G34: =IF(ISBLANK(F34),"",+E34+F34-1) -> 2023 | H34: 1 | I34: 84067.6 | J34: =+I34*H34 -> 84067.6 | K34: ELW1 | L34: =+IF(L$1<$E34,0,IF(L$1>$G34,0,IF($F34="",0,IF(AND($J34<0,$T$3=1),0,$J34/$F34))))*(1-$D34) -> 4203.38 | M34: =+IF(M$1<$E34,0,IF(M$1>$G34,0,IF($F34="",0,IF(AND($J34<0,$T$3=1),0,$J34/$F34))))*(1-$D34) -> 4203.38 | N34: =+IF(N$1<$E34,0,IF(N$1>$G34,0,IF($F34="",0,IF(AND($J34<0,$T$3=1),0,$J34/$F34))))*(1-$D34) -> 4203.38 | P34: =+IF(P$1<$E34,0,IF(P$1>$G34,0,$J34*IF($F34="",1,CHOOSE($T$2,1-((P$1-$E34)/$F34),0.5))))*$T$1*(1-$D34) -> 2185.7576 | Q34: =+IF(Q$1<$E34,0,IF(Q$1>$G34,0,$J34*IF($F34="",1,CHOOSE($T$2,1-((Q$1-$E34)/$F34),0.5))))*$T$1*(1-$D34) -> 1912.5379 | R34: =+IF(R$1<$E34,0,IF(R$1>$G34,0,$J34*IF($F34="",1,CHOOSE($T$2,1-((R$1-$E34)/$F34),0.5))))*$T$1*(1-$D34) -> 1639.3182
A35: 34 | B35: 00001150 | C35: ME-HA 2361 Hubsteiger | D35: 0 | E35: 2007 | F35: 20 | G35: =IF(ISBLANK(F35),"",+E35+F35-1) -> 2026 | H35: 1 | I35: 395068.13 | J35: =+I35*H35 -> 395068.13 | K35: TM | L35: =+IF(L$1<$E35,0,IF(L$1>$G35,0,IF($F35="",0,IF(AND($J35<0,$T$3=1),0,$J35/$F35))))*(1-$D35) -> 19753.407 | M35: =+IF(M$1<$E35,0,IF(M$1>$G35,0,IF($F35="",0,IF(AND($J35<0,$T$3=1),0,$J35/$F35))))*(1-$D35) -> 19753.407 | N35: =+IF(N$1<$E35,0,IF(N$1>$G35,0,IF($F35="",0,IF(AND($J35<0,$T$3=1),0,$J35/$F35))))*(1-$D35) -> 19753.407 | P35: =+IF(P$1<$E35,0,IF(P$1>$G35,0,$J35*IF($F35="",1,CHOOSE($T$2,1-((P$1-$E35)/$F35),0.5))))*$T$1*(1-$D35) -> 14123.686 | Q35: =+IF(Q$1<$E35,0,IF(Q$1>$G35,0,$J35*IF($F35="",1,CHOOSE($T$2,1-((Q$1-$E35)/$F35),0.5))))*$T$1*(1-$D35) -> 12839.714 | R35: =+IF(R$1<$E35,0,IF(R$1>$G35,0,$J35*IF($F35="",1,CHOOSE($T$2,1-((R$1-$E35)/$F35),0.5))))*$T$1*(1-$D35) -> 11555.743
A36: 35 | B36: 00005154 | C36: ME-2376 Feldküche | D36: 0 | E36: 2012 | F36: 20 | G36: =IF(ISBLANK(F36),"",+E36+F36-1) -> 2031 | H36: 1 | I36: 0 | J36: =+I36*H36 -> 0 | K36: FZ | L36: =+IF(L$1<$E36,0,IF(L$1>$G36,0,IF($F36="",0,IF(AND($J36<0,$T$3=1),0,$J36/$F36))))*(1-$D36) -> 0 | M36: =+IF(M$1<$E36,0,IF(M$1>$G36,0,IF($F36="",0,IF(AND($J36<0,$T$3=1),0,$J36/$F36))))*(1-$D36) -> 0 | N36: =+IF(N$1<$E36,0,IF(N$1>$G36,0,IF($F36="",0,IF(AND($J36<0,$T$3=1),0,$J36/$F36))))*(1-$D36) -> 0 | P36: =+IF(P$1<$E36,0,IF(P$1>$G36,0,$J36*IF($F36="",1,CHOOSE($T$2,1-((P$1-$E36)/$F36),0.5))))*$T$1*(1-$D36) -> 0 | Q36: =+IF(Q$1<$E36,0,IF(Q$1>$G36,0,$J36*IF($F36="",1,CHOOSE($T$2,1-((Q$1-$E36)/$F36),0.5))))*$T$1*(1-$D36) -> 0 | R36: =+IF(R$1<$E36,0,IF(R$1>$G36,0,$J36*IF($F36="",1,CHOOSE($T$2,1-((R$1-$E36)/$F36),0.5))))*$T$1*(1-$D36) -> 0
A37: 36 | B37: 00005155 | C37: ME-2744 Löschfahrzeug 16/TS | D37: 0 | E37: 2012 | F37: 20 | G37: =IF(ISBLANK(F37),"",+E37+F37-1) -> 2031 | H37: 1 | I37: 0 | J37: =+I37*H37 -> 0 | K37: LF 16 TS | L37: =+IF(L$1<$E37,0,IF(L$1>$G37,0,IF($F37="",0,IF(AND($J37<0,$T$3=1),0,$J37/$F37))))*(1-$D37) -> 0 | M37: =+IF(M$1<$E37,0,IF(M$1>$G37,0,IF($F37="",0,IF(AND($J37<0,$T$3=1),0,$J37/$F37))))*(1-$D37) -> 0 | N37: =+IF(N$1<$E37,0,IF(N$1>$G37,0,IF($F37="",0,IF(AND($J37<0,$T$3=1),0,$J37/$F37))))*(1-$D37) -> 0 | P37: =+IF(P$1<$E37,0,IF(P$1>$G37,0,$J37*IF($F37="",1,CHOOSE($T$2,1-((P$1-$E37)/$F37),0.5))))*$T$1*(1-$D37) -> 0 | Q37: =+IF(Q$1<$E37,0,IF(Q$1>$G37,0,$J37*IF($F37="",1,CHOOSE($T$2,1-((Q$1-$E37)/$F37),0.5))))*$T$1*(1-$D37) -> 0 | R37: =+IF(R$1<$E37,0,IF(R$1>$G37,0,$J37*IF($F37="",1,CHOOSE($T$2,1-((R$1-$E37)/$F37),0.5))))*$T$1*(1-$D37) -> 0
A38: 37 | B38: 00005726 | C38: ME-HA 2432 HLF 20 | D38: 0 | E38: 2014 | F38: 20 | G38: =IF(ISBLANK(F38),"",+E38+F38-1) -> 2033 | H38: 1 | I38: 319894.23 | J38: =+I38*H38 -> 319894.23 | K38: HLF 20 | L38: =+IF(L$1<$E38,0,IF(L$1>$G38,0,IF($F38="",0,IF(AND($J38<0,$T$3=1),0,$J38/$F38))))*(1-$D38) -> 15994.711 | M38: =+IF(M$1<$E38,0,IF(M$1>$G38,0,IF($F38="",0,IF(AND($J38<0,$T$3=1),0,$J38/$F38))))*(1-$D38) -> 15994.711 | N38: =+IF(N$1<$E38,0,IF(N$1>$G38,0,IF($F38="",0,IF(AND($J38<0,$T$3=1),0,$J38/$F38))))*(1-$D38) -> 15994.711 | P38: =+IF(P$1<$E38,0,IF(P$1>$G38,0,$J38*IF($F38="",1,CHOOSE($T$2,1-((P$1-$E38)/$F38),0.5))))*$T$1*(1-$D38) -> 18713.812 | Q38: =+IF(Q$1<$E38,0,IF(Q$1>$G38,0,$J38*IF($F38="",1,CHOOSE($T$2,1-((Q$1-$E38)/$F38),0.5))))*$T$1*(1-$D38) -> 17674.156 | R38: =+IF(R$1<$E38,0,IF(R$1>$G38,0,$J38*IF($F38="",1,CHOOSE($T$2,1-((R$1-$E38)/$F38),0.5))))*$T$1*(1-$D38) -> 16634.5
A39: 38 | B39: 00006570 | C39: ME-HA 2431 HLF Löschfahrzeug Hauptwache | D39: 0 | E39: 2015 | F39: 20 | G39: =IF(ISBLANK(F39),"",+E39+F39-1) -> 2034 | H39: 1 | I39: 415011.46 | J39: =+I39*H39 -> 415011.46 | K39: HLF 20 | L39: =+IF(L$1<$E39,0,IF(L$1>$G39,0,IF($F39="",0,IF(AND($J39<0,$T$3=1),0,$J39/$F39))))*(1-$D39) -> 20750.573 | M39: =+IF(M$1<$E39,0,IF(M$1>$G39,0,IF($F39="",0,IF(AND($J39<0,$T$3=1),0,$J39/$F39))))*(1-$D39) -> 20750.573 | N39: =+IF(N$1<$E39,0,IF(N$1>$G39,0,IF($F39="",0,IF(AND($J39<0,$T$3=1),0,$J39/$F39))))*(1-$D39) -> 20750.573 | P39: =+IF(P$1<$E39,0,IF(P$1>$G39,0,$J39*IF($F39="",1,CHOOSE($T$2,1-((P$1-$E39)/$F39),0.5))))*$T$1*(1-$D39) -> 25626.958 | Q39: =+IF(Q$1<$E39,0,IF(Q$1>$G39,0,$J39*IF($F39="",1,CHOOSE($T$2,1-((Q$1-$E39)/$F39),0.5))))*$T$1*(1-$D39) -> 24278.17 | R39: =+IF(R$1<$E39,0,IF(R$1>$G39,0,$J39*IF($F39="",1,CHOOSE($T$2,1-((R$1-$E39)/$F39),0.5))))*$T$1*(1-$D39) -> 22929.383
A40: 39 | B40: 00001131 | C40: ME-2600 M.A.N Rüstwagen RW2 | D40: 0 | E40: 2003 | F40: 8 | G40: =IF(ISBLANK(F40),"",+E40+F40-1) -> 2010 | H40: 1 | I40: 258809.82 | J40: =+I40*H40 -> 258809.82 | K40: RW | L40: =+IF(L$1<$E40,0,IF(L$1>$G40,0,IF($F40="",0,IF(AND($J40<0,$T$3=1),0,$J40/$F40))))*(1-$D40) -> 0 | M40: =+IF(M$1<$E40,0,IF(M$1>$G40,0,IF($F40="",0,IF(AND($J40<0,$T$3=1),0,$J40/$F40))))*(1-$D40) -> 0 | N40: =+IF(N$1<$E40,0,IF(N$1>$G40,0,IF($F40="",0,IF(AND($J40<0,$T$3=1),0,$J40/$F40))))*(1-$D40) -> 0 | P40: =+IF(P$1<$E40,0,IF(P$1>$G40,0,$J40*IF($F40="",1,CHOOSE($T$2,1-((P$1-$E40)/$F40),0.5))))*$T$1*(1-$D40) -> 0 | Q40: =+IF(Q$1<$E40,0,IF(Q$1>$G40,0,$J40*IF($F40="",1,CHOOSE($T$2,1-((Q$1-$E40)/$F40),0.5))))*$T$1*(1-$D40) -> 0 | R40: =+IF(R$1<$E40,0,IF(R$1>$G40,0,$J40*IF($F40="",1,CHOOSE($T$2,1-((R$1-$E40)/$F40),0.5))))*$T$1*(1-$D40) -> 0
A41: 40 | B41: 00005584 | C41: ME-HA 2102 Kommandowagen | D41: 0 | E41: 2013 | F41: 10 | G41: =IF(ISBLANK(F41),"",+E41+F41-1) -> 2022 | H41: 1 | I41: 39909.23 | J41: =+I41*H41 -> 39909.23 | K41: KdoW | L41: =+IF(L$1<$E41,0,IF(L$1>$G41,0,IF($F41="",0,IF(AND($J41<0,$T$3=1),0,$J41/$F41))))*(1-$D41) -> 3990.923 | M41: =+IF(M$1<$E41,0,IF(M$1>$G41,0,IF($F41="",0,IF(AND($J41<0,$T$3=1),0,$J41/$F41))))*(1-$D41) -> 3990.923 | N41: =+IF(N$1<$E41,0,IF(N$1>$G41,0,IF($F41="",0,IF(AND($J41<0,$T$3=1),0,$J41/$F41))))*(1-$D41) -> 3990.923 | P41: =+IF(P$1<$E41,0,IF(P$1>$G41,0,$J41*IF($F41="",1,CHOOSE($T$2,1-((P$1-$E41)/$F41),0.5))))*$T$1*(1-$D41) -> 1815.87 | Q41: =+IF(Q$1<$E41,0,IF(Q$1>$G41,0,$J41*IF($F41="",1,CHOOSE($T$2,1-((Q$1-$E41)/$F41),0.5))))*$T$1*(1-$D41) -> 1556.46 | R41: =+IF(R$1<$E41,0,IF(R$1>$G41,0,$J41*IF($F41="",1,CHOOSE($T$2,1-((R$1-$E41)/$F41),0.5))))*$T$1*(1-$D41) -> 1297.05
A42: 41 | B42: 00001127 | C42: ME-2200 MTF II | D42: 0 | E42: 1998 | F42: 10 | G42: =IF(ISBLANK(F42),"",+E42+F42-1) -> 2007 | H42: 1 | I42: 32739.04 | J42: =+I42*H42 -> 32739.04 | L42: =+IF(L$1<$E42,0,IF(L$1>$G42,0,IF($F42="",0,IF(AND($J42<0,$T$3=1),0,$J42/$F42))))*(1-$D42) -> 0 | M42: =+IF(M$1<$E42,0,IF(M$1>$G42,0,IF($F42="",0,IF(AND($J42<0,$T$3=1),0,$J42/$F42))))*(1-$D42) -> 0 | N42: =+IF(N$1<$E42,0,IF(N$1>$G42,0,IF($F42="",0,IF(AND($J42<0,$T$3=1),0,$J42/$F42))))*(1-$D42) -> 0 | P42: =+IF(P$1<$E42,0,IF(P$1>$G42,0,$J42*IF($F42="",1,CHOOSE($T$2,1-((P$1-$E42)/$F42),0.5))))*$T$1*(1-$D42) -> 0 | Q42: =+IF(Q$1<$E42,0,IF(Q$1>$G42,0,$J42*IF($F42="",1,CHOOSE($T$2,1-((Q$1-$E42)/$F42),0.5))))*$T$1*(1-$D42) -> 0 | R42: =+IF(R$1<$E42,0,IF(R$1>$G42,0,$J42*IF($F42="",1,CHOOSE($T$2,1-((R$1-$E42)/$F42),0.5))))*$T$1*(1-$D42) -> 0
A43: 42 | B43: 00001136 | C43: ME-2856 VW T5 MTF I | D43: 0 | E43: 2003 | F43: 10 | G43: =IF(ISBLANK(F43),"",+E43+F43-1) -> 2012 | H43: 1 | I43: 29330 | J43: =+I43*H43 -> 29330 | K43: MTF | L43: =+IF(L$1<$E43,0,IF(L$1>$G43,0,IF($F43="",0,IF(AND($J43<0,$T$3=1),0,$J43/$F43))))*(1-$D43) -> 0 | M43: =+IF(M$1<$E43,0,IF(M$1>$G43,0,IF($F43="",0,IF(AND($J43<0,$T$3=1),0,$J43/$F43))))*(1-$D43) -> 0 | N43: =+IF(N$1<$E43,0,IF(N$1>$G43,0,IF($F43="",0,IF(AND($J43<0,$T$3=1),0,$J43/$F43))))*(1-$D43) -> 0 | P43: =+IF(P$1<$E43,0,IF(P$1>$G43,0,$J43*IF($F43="",1,CHOOSE($T$2,1-((P$1-$E43)/$F43),0.5))))*$T$1*(1-$D43) -> 0 | Q43: =+IF(Q$1<$E43,0,IF(Q$1>$G43,0,$J43*IF($F43="",1,CHOOSE($T$2,1-((Q$1-$E43)/$F43),0.5))))*$T$1*(1-$D43) -> 0 | R43: =+IF(R$1<$E43,0,IF(R$1>$G43,0,$J43*IF($F43="",1,CHOOSE($T$2,1-((R$1-$E43)/$F43),0.5))))*$T$1*(1-$D43) -> 0
A44: 43 | B44: 00006565 | C44: ME-HA 2192 VW T5 MTF | D44: 0 | E44: 2015 | F44: 10 | G44: =IF(ISBLANK(F44),"",+E44+F44-1) -> 2024 | H44: 1 | I44: 47736.05 | J44: =+I44*H44 -> 47736.05 | K44: MTF | L44: =+IF(L$1<$E44,0,IF(L$1>$G44,0,IF($F44="",0,IF(AND($J44<0,$T$3=1),0,$J44/$F44))))*(1-$D44) -> 4773.605 | M44: =+IF(M$1<$E44,0,IF(M$1>$G44,0,IF($F44="",0,IF(AND($J44<0,$T$3=1),0,$J44/$F44))))*(1-$D44) -> 4773.605 | N44: =+IF(N$1<$E44,0,IF(N$1>$G44,0,IF($F44="",0,IF(AND($J44<0,$T$3=1),0,$J44/$F44))))*(1-$D44) -> 4773.605 | P44: =+IF(P$1<$E44,0,IF(P$1>$G44,0,$J44*IF($F44="",1,CHOOSE($T$2,1-((P$1-$E44)/$F44),0.5))))*$T$1*(1-$D44) -> 2792.5589 | Q44: =+IF(Q$1<$E44,0,IF(Q$1>$G44,0,$J44*IF($F44="",1,CHOOSE($T$2,1-((Q$1-$E44)/$F44),0.5))))*$T$1*(1-$D44) -> 2482.2746 | R44: =+IF(R$1<$E44,0,IF(R$1>$G44,0,$J44*IF($F44="",1,CHOOSE($T$2,1-((R$1-$E44)/$F44),0.5))))*$T$1*(1-$D44) -> 2171.9903
A45: 44 | B45: 00006614 | C45: Abstützsystem Paratech zu Rüstwagen | D45: 0 | E45: 2015 | F45: 10 | G45: =IF(ISBLANK(F45),"",+E45+F45-1) -> 2024 | H45: 1 | I45: 11168.12 | J45: =+I45*H45 -> 11168.12 | K45: RW | L45: =+IF(L$1<$E45,0,IF(L$1>$G45,0,IF($F45="",0,IF(AND($J45<0,$T$3=1),0,$J45/$F45))))*(1-$D45) -> 1116.812 | M45: =+IF(M$1<$E45,0,IF(M$1>$G45,0,IF($F45="",0,IF(AND($J45<0,$T$3=1),0,$J45/$F45))))*(1-$D45) -> 1116.812 | N45: =+IF(N$1<$E45,0,IF(N$1>$G45,0,IF($F45="",0,IF(AND($J45<0,$T$3=1),0,$J45/$F45))))*(1-$D45) -> 1116.812 | P45: =+IF(P$1<$E45,0,IF(P$1>$G45,0,$J45*IF($F45="",1,CHOOSE($T$2,1-((P$1-$E45)/$F45),0.5))))*$T$1*(1-$D45) -> 653.33502 | Q45: =+IF(Q$1<$E45,0,IF(Q$1>$G45,0,$J45*IF($F45="",1,CHOOSE($T$2,1-((Q$1-$E45)/$F45),0.5))))*$T$1*(1-$D45) -> 580.74224 | R45: =+IF(R$1<$E45,0,IF(R$1>$G45,0,$J45*IF($F45="",1,CHOOSE($T$2,1-((R$1-$E45)/$F45),0.5))))*$T$1*(1-$D45) -> 508.14946
...

Sheet KA
A1: Nr. | B1: Konto | C1: Bezeichnung | D1: Index | E1: 2015 | F1: Index in % | G1: =+Anlagen!L1 -> 2016 | H1: =+Anlagen!M1 -> 2017 | I1: =+Anlagen!N1 -> 2018
A2: 1 | B2: 414000 | C2: Zuweisungen vom Bund | D2: 0 | E2: -727.6 | F2: =+VLOOKUP(D2,Indices!$C$2:$E$17,3,FALSE) -> 0 | G2: =+$E2*(1+$F2)^(G$1-$E$1) -> -727.6 | H2: =+$E2*(1+$F2)^(H$1-$E$1) -> -727.6 | I2: =+$E2*(1+$F2)^(I$1-$E$1) -> -727.6
A3: 2 | B3: 414100 | C3: Zuweisungen vom Land | D3: 0 | E3: -3932.09 | F3: =+VLOOKUP(D3,Indices!$C$2:$E$17,3,FALSE) -> 0 | G3: =+$E3*(1+$F3)^(G$1-$E$1) -> -3932.09 | H3: =+$E3*(1+$F3)^(H$1-$E$1) -> -3932.09 | I3: =+$E3*(1+$F3)^(I$1-$E$1) -> -3932.09
A4: 3 | B4: 416100 | C4: Erträge aus der Auflösung von Sonderposten aus Zuwendungen | D4: 0 | E4: -39173.35 | F4: =+VLOOKUP(D4,Indices!$C$2:$E$17,3,FALSE) -> 0 | G4: =+$E4*(1+$F4)^(G$1-$E$1) -> -39173.35 | H4: =+$E4*(1+$F4)^(H$1-$E$1) -> -39173.35 | I4: =+$E4*(1+$F4)^(I$1-$E$1) -> -39173.35
A5: 4 | B5: 432130 | C5: Entgelt für die Inanspruch nahme öffentlicher Dienste | D5: 0 | E5: -37958.74 | F5: =+VLOOKUP(D5,Indices!$C$2:$E$17,3,FALSE) -> 0 | G5: =+$E5*(1+$F5)^(G$1-$E$1) -> -37958.74 | H5: =+$E5*(1+$F5)^(H$1-$E$1) -> -37958.74 | I5: =+$E5*(1+$F5)^(I$1-$E$1) -> -37958.74
A6: 5 | B6: 446190 | C6: Sonstige privatrechliche Leistungsentgelte | D6: 0 | E6: -2045.2 | F6: =+VLOOKUP(D6,Indices!$C$2:$E$17,3,FALSE) -> 0 | G6: =+$E6*(1+$F6)^(G$1-$E$1) -> -2045.2 | H6: =+$E6*(1+$F6)^(H$1-$E$1) -> -2045.2 | I6: =+$E6*(1+$F6)^(I$1-$E$1) -> -2045.2
A7: 6 | B7: 448803 | C7: Erstattungen für Schadens fälle - durch Schadens verursacher/Versicherer | D7: 0 | E7: -979.67 | F7: =+VLOOKUP(D7,Indices!$C$2:$E$17,3,FALSE) -> 0 | G7: =+$E7*(1+$F7)^(G$1-$E$1) -> -979.67 | H7: =+$E7*(1+$F7)^(H$1-$E$1) -> -979.67 | I7: =+$E7*(1+$F7)^(I$1-$E$1) -> -979.67
A8: 7 | B8: 454290 | C8: VK Verkäufe von beweglichem Vermögen | D8: 0 | E8: -21504 | F8: =+VLOOKUP(D8,Indices!$C$2:$E$17,3,FALSE) -> 0 | G8: =+$E8*(1+$F8)^(G$1-$E$1) -> -21504 | H8: =+$E8*(1+$F8)^(H$1-$E$1) -> -21504 | I8: =+$E8*(1+$F8)^(I$1-$E$1) -> -21504
A9: 8 | B9: 458200 | C9: Auflösung/Herabsetzung RKSt | D9: 0 | E9: -18579.72 | F9: =+VLOOKUP(D9,Indices!$C$2:$E$17,3,FALSE) -> 0 | G9: =+$E9*(1+$F9)^(G$1-$E$1) -> -18579.72 | H9: =+$E9*(1+$F9)^(H$1-$E$1) -> -18579.72 | I9: =+$E9*(1+$F9)^(I$1-$E$1) -> -18579.72
A10: 9 | B10: 459100 | C10: Andere sonstige ordentliche Erträge | D10: 0 | E10: -756 | F10: =+VLOOKUP(D10,Indices!$C$2:$E$17,3,FALSE) -> 0 | G10: =+$E10*(1+$F10)^(G$1-$E$1) -> -756 | H10: =+$E10*(1+$F10)^(H$1-$E$1) -> -756 | I10: =+$E10*(1+$F10)^(I$1-$E$1) -> -756
A11: 10 | B11: 501101 | C11: Bezüge der Beamten | D11: p | E11: 1091983.5 | F11: =+VLOOKUP(D11,Indices!$C$2:$E$17,3,FALSE) -> 0.0275 | G11: =+$E11*(1+$F11)^(G$1-$E$1) -> 1122013.1 | H11: =+$E11*(1+$F11)^(H$1-$E$1) -> 1152868.4 | I11: =+$E11*(1+$F11)^(I$1-$E$1) -> 1184572.3
A12: 11 | B12: 501201 | C12: Vergütungen der tariflich Beschäftigten | D12: p | E12: 28608.72 | F12: =+VLOOKUP(D12,Indices!$C$2:$E$17,3,FALSE) -> 0.0275 | G12: =+$E12*(1+$F12)^(G$1-$E$1) -> 29395.46 | H12: =+$E12*(1+$F12)^(H$1-$E$1) -> 30203.835 | I12: =+$E12*(1+$F12)^(I$1-$E$1) -> 31034.44
A13: 12 | B13: 501996 | C13: Inanspruchnahme / Verbrauch sonstiger Gehalts-RKSt | D13: p | E13: -145600.28 | F13: 0 | G13: =+$E13*(1+$F13)^(G$1-$E$1) -> -145600.28 | H13: =+$E13*(1+$F13)^(H$1-$E$1) -> -145600.28 | I13: =+$E13*(1+$F13)^(I$1-$E$1) -> -145600.28
A14: 13 | B14: 502200 | C14: Beiträge zur Versorgungskasse für tariflich Beschäftigte | D14: p | E14: 2142.41 | F14: =+VLOOKUP(D14,Indices!$C$2:$E$17,3,FALSE) -> 0.0275 | G14: =+$E14*(1+$F14)^(G$1-$E$1) -> 2201.3263 | H14: =+$E14*(1+$F14)^(H$1-$E$1) -> 2261.8627 | I14: =+$E14*(1+$F14)^(I$1-$E$1) -> 2324.064
A15: 14 | B15: 503201 | C15: Beiträge zur gesetzlichen Sozialversicherung aus lfd. Vergütung für tariflich Beschäftigte | D15: p | E15: 5493.09 | F15: =+VLOOKUP(D15,Indices!$C$2:$E$17,3,FALSE) -> 0.0275 | G15: =+$E15*(1+$F15)^(G$1-$E$1) -> 5644.15 | H15: =+$E15*(1+$F15)^(H$1-$E$1) -> 5799.3641 | I15: =+$E15*(1+$F15)^(I$1-$E$1) -> 5958.8466
A16: 15 | B16: 504100 | C16: Beihilfen und Unterstützungsleistungen für Beschäftigte | D16: p | E16: 72103.52 | F16: =+VLOOKUP(D16,Indices!$C$2:$E$17,3,FALSE) -> 0.0275 | G16: =+$E16*(1+$F16)^(G$1-$E$1) -> 74086.367 | H16: =+$E16*(1+$F16)^(H$1-$E$1) -> 76123.742 | I16: =+$E16*(1+$F16)^(I$1-$E$1) -> 78217.145
A17: 16 | B17: 505100 | C17: Zuführungen zu Pensionsrückstellungen für Beamte | D17: p | E17: 268725 | F17: =+VLOOKUP(D17,Indices!$C$2:$E$17,3,FALSE) -> 0.0275 | G17: =+$E17*(1+$F17)^(G$1-$E$1) -> 276114.94 | H17: =+$E17*(1+$F17)^(H$1-$E$1) -> 283708.1 | I17: =+$E17*(1+$F17)^(I$1-$E$1) -> 291510.07
A18: 17 | B18: 506100 | C18: Zuführungen zu Beihilferückstellung für Beamte | D18: p | E18: 92128 | F18: =+VLOOKUP(D18,Indices!$C$2:$E$17,3,FALSE) -> 0.0275 | G18: =+$E18*(1+$F18)^(G$1-$E$1) -> 94661.52 | H18: =+$E18*(1+$F18)^(H$1-$E$1) -> 97264.712 | I18: =+$E18*(1+$F18)^(I$1-$E$1) -> 99939.491
A19: 18 | B19: 521110 | C19: Unterhaltung der bebauten Grundstücke, Gebäude und baulichen Anlagen - Unabdingbares | D19: i | E19: 73234.07 | F19: =+VLOOKUP(D19,Indices!$C$2:$E$17,3,FALSE) -> 0.0275 | G19: =+$E19*(1+$F19)^(G$1-$E$1) -> 75248.007 | H19: =+$E19*(1+$F19)^(H$1-$E$1) -> 77317.327 | I19: =+$E19*(1+$F19)^(I$1-$E$1) -> 79443.554
A20: 19 | B20: 521120 | C20: Unterhaltung der bebauten Grundstücke, Gebäude und baulichen Anlagen - begrünte Außenanlagen | D20: a | E20: 166.35 | F20: =+VLOOKUP(D20,Indices!$C$2:$E$17,3,FALSE) -> 0.015 | G20: =+$E20*(1+$F20)^(G$1-$E$1) -> 168.84525 | H20: =+$E20*(1+$F20)^(H$1-$E$1) -> 171.37793 | I20: =+$E20*(1+$F20)^(I$1-$E$1) -> 173.9486
A21: 20 | B21: 523500 | C21: Erstattungen an verbundene Unternehmen, Beteiligungen und Sondervermögen | D21: w | E21: 18303.2 | F21: =+VLOOKUP(D21,Indices!$C$2:$E$17,3,FALSE) -> 0.0175 | G21: =+$E21*(1+$F21)^(G$1-$E$1) -> 18623.506 | H21: =+$E21*(1+$F21)^(H$1-$E$1) -> 18949.417 | I21: =+$E21*(1+$F21)^(I$1-$E$1) -> 19281.032
A22: 21 | B22: 523800 | C22: Erstattungen an übrige Bereiche | D22: 0 | E22: 866.09 | F22: =+VLOOKUP(D22,Indices!$C$2:$E$17,3,FALSE) -> 0 | G22: =+$E22*(1+$F22)^(G$1-$E$1) -> 866.09 | H22: =+$E22*(1+$F22)^(H$1-$E$1) -> 866.09 | I22: =+$E22*(1+$F22)^(I$1-$E$1) -> 866.09
A23: 22 | B23: 524119 | C23: Bewirtschaftung der Grund stücke und baulichen Anlagen - Grundabgaben | D23: 0 | E23: 6468.54 | F23: =+VLOOKUP(D23,Indices!$C$2:$E$17,3,FALSE) -> 0 | G23: =+$E23*(1+$F23)^(G$1-$E$1) -> 6468.54 | H23: =+$E23*(1+$F23)^(H$1-$E$1) -> 6468.54 | I23: =+$E23*(1+$F23)^(I$1-$E$1) -> 6468.54
A24: 23 | B24: 524120 | C24: Bewirtschaftung der Grund stücke und baulichen Anlagen - Hausgebühren | D24: w | E24: 3012.92 | F24: =+VLOOKUP(D24,Indices!$C$2:$E$17,3,FALSE) -> 0.0175 | G24: =+$E24*(1+$F24)^(G$1-$E$1) -> 3065.6461 | H24: =+$E24*(1+$F24)^(H$1-$E$1) -> 3119.2949 | I24: =+$E24*(1+$F24)^(I$1-$E$1) -> 3173.8826
A25: 24 | B25: 524130 | C25: Bewirtschaftung der Grund stücke und baulichen Anlagen - Reinigung | D25: a | E25: 25064.17 | F25: =+VLOOKUP(D25,Indices!$C$2:$E$17,3,FALSE) -> 0.015 | G25: =+$E25*(1+$F25)^(G$1-$E$1) -> 25440.133 | H25: =+$E25*(1+$F25)^(H$1-$E$1) -> 25821.735 | I25: =+$E25*(1+$F25)^(I$1-$E$1) -> 26209.061
A26: 25 | B26: 524149 | C26: Bewirtschaftung der Grund stücke und baulichen Anlagen - Versicherungen | D26: 0 | E26: 4818.54 | F26: =+VLOOKUP(D26,Indices!$C$2:$E$17,3,FALSE) -> 0 | G26: =+$E26*(1+$F26)^(G$1-$E$1) -> 4818.54 | H26: =+$E26*(1+$F26)^(H$1-$E$1) -> 4818.54 | I26: =+$E26*(1+$F26)^(I$1-$E$1) -> 4818.54
A27: 26 | B27: 524156 | C27: SN Bewirtschaftung der Grund stücke und baulichen Anlagen - Energie/Strom | D27: en | E27: 28460.15 | F27: =+VLOOKUP(D27,Indices!$C$2:$E$17,3,FALSE) -> 0.0475 | G27: =+$E27*(1+$F27)^(G$1-$E$1) -> 29812.007 | H27: =+$E27*(1+$F27)^(H$1-$E$1) -> 31228.077 | I27: =+$E27*(1+$F27)^(I$1-$E$1) -> 32711.411
A28: 27 | B28: 524157 | C28: Bewirtschaftung der Grund stücke und baulichen Anlagen - Gas | D28: gs | E28: 22665.7 | F28: =+VLOOKUP(D28,Indices!$C$2:$E$17,3,FALSE) -> 0.02 | G28: =+$E28*(1+$F28)^(G$1-$E$1) -> 23119.014 | H28: =+$E28*(1+$F28)^(H$1-$E$1) -> 23581.394 | I28: =+$E28*(1+$F28)^(I$1-$E$1) -> 24053.022
A29: 28 | B29: 524158 | C29: SN Bewirtschaftung der Grund stücke und baulichen Anlagen - Wasser | D29: w | E29: 1604.83 | F29: =+VLOOKUP(D29,Indices!$C$2:$E$17,3,FALSE) -> 0.0175 | G29: =+$E29*(1+$F29)^(G$1-$E$1) -> 1632.9145 | H29: =+$E29*(1+$F29)^(H$1-$E$1) -> 1661.4905 | I29: =+$E29*(1+$F29)^(I$1-$E$1) -> 1690.5666
A30: 29 | B30: 525101 | C30: Unterhaltung von Fahrzeugen 1) | D30: 0 | E30: =36.4+30.5+63.84+11.9+207.15 -> 349.79 | F30: =+VLOOKUP(D30,Indices!$C$2:$E$17,3,FALSE) -> 0 | G30: =+$E30*(1+$F30)^(G$1-$E$1) -> 349.79 | H30: =+$E30*(1+$F30)^(H$1-$E$1) -> 349.79 | I30: =+$E30*(1+$F30)^(I$1-$E$1) -> 349.79
A31: 30 | B31: 525103 | C31: Bewirtschaftung von Fahrzeugen - Sonstige 2) | D31: ks | E31: =555.24+'Korrektur Dieselkosten'!C14 -> 6043.8004 | F31: =+VLOOKUP(D31,Indices!$C$2:$E$17,3,FALSE) -> 0 | G31: =+$E31*(1+$F31)^(G$1-$E$1) -> 6043.8004 | H31: =+$E31*(1+$F31)^(H$1-$E$1) -> 6043.8004 | I31: =+$E31*(1+$F31)^(I$1-$E$1) -> 6043.8004
A32: 31 | B32: 525192 | C32: SN Bewirtschaftung von KfZ - Versicherung/Steuern 3) | D32: 0 | E32: =11.54+21.52-0.1+73.52 -> 106.48 | F32: =+VLOOKUP(D32,Indices!$C$2:$E$17,3,FALSE) -> 0 | G32: =+$E32*(1+$F32)^(G$1-$E$1) -> 106.48 | H32: =+$E32*(1+$F32)^(H$1-$E$1) -> 106.48 | I32: =+$E32*(1+$F32)^(I$1-$E$1) -> 106.48
A33: 32 | B33: 525510 | C33: Unterhaltung des sonstigen beweglichen Vermögens - Betriebs- und Geschäfts ausstattung | D33: a | E33: 19675.92 | F33: =+VLOOKUP(D33,Indices!$C$2:$E$17,3,FALSE) -> 0.015 | G33: =+$E33*(1+$F33)^(G$1-$E$1) -> 19971.059 | H33: =+$E33*(1+$F33)^(H$1-$E$1) -> 20270.625 | I33: =+$E33*(1+$F33)^(I$1-$E$1) -> 20574.684
A34: 33 | B34: 525530 | C34: Unterhaltung des sonstigen beweglichen Vermögens - Betriebsvorrichtungen | D34: 0 | E34: 689.41 | F34: =+VLOOKUP(D34,Indices!$C$2:$E$17,3,FALSE) -> 0 | G34: =+$E34*(1+$F34)^(G$1-$E$1) -> 689.41 | H34: =+$E34*(1+$F34)^(H$1-$E$1) -> 689.41 | I34: =+$E34*(1+$F34)^(I$1-$E$1) -> 689.41
A35: 34 | B35: 528110 | C35: Aufwendungen für sonstige Sachleistungen - Ver- und Gebrauchsmaterialien | D35: a | E35: 17614.14 | F35: =+VLOOKUP(D35,Indices!$C$2:$E$17,3,FALSE) -> 0.015 | G35: =+$E35*(1+$F35)^(G$1-$E$1) -> 17878.352 | H35: =+$E35*(1+$F35)^(H$1-$E$1) -> 18146.527 | I35: =+$E35*(1+$F35)^(I$1-$E$1) -> 18418.725
A36: 35 | B36: 528190 | C36: Aufwendungen für sonstige Sachleistungen | D36: 0 | E36: 1485.72 | F36: =+VLOOKUP(D36,Indices!$C$2:$E$17,3,FALSE) -> 0 | G36: =+$E36*(1+$F36)^(G$1-$E$1) -> 1485.72 | H36: =+$E36*(1+$F36)^(H$1-$E$1) -> 1485.72 | I36: =+$E36*(1+$F36)^(I$1-$E$1) -> 1485.72
A37: 36 | B37: 529190 | C37: Sonstige Dienstleistungen durch Dritte | D37: 0 | E37: 3338.04 | F37: =+VLOOKUP(D37,Indices!$C$2:$E$17,3,FALSE) -> 0 | G37: =+$E37*(1+$F37)^(G$1-$E$1) -> 3338.04 | H37: =+$E37*(1+$F37)^(H$1-$E$1) -> 3338.04 | I37: =+$E37*(1+$F37)^(I$1-$E$1) -> 3338.04
A38: 37 | B38: 531890 | C38: Zuweisungen und Zuschüsse für laufende Zwecke an übrige Bereiche - Sonstige | D38: 0 | E38: 3600 | F38: =+VLOOKUP(D38,Indices!$C$2:$E$17,3,FALSE) -> 0 | G38: =+$E38*(1+$F38)^(G$1-$E$1) -> 3600 | H38: =+$E38*(1+$F38)^(H$1-$E$1) -> 3600 | I38: =+$E38*(1+$F38)^(I$1-$E$1) -> 3600
A39: 38 | B39: 541211 | C39: Besondere Aufwendungen für Be schäftigte - Fortbildung Dez I | D39: b | E39: 17505.44 | F39: =+VLOOKUP(D39,Indices!$C$2:$E$17,3,FALSE) -> 0 | G39: =+$E39*(1+$F39)^(G$1-$E$1) -> 17505.44 | H39: =+$E39*(1+$F39)^(H$1-$E$1) -> 17505.44 | I39: =+$E39*(1+$F39)^(I$1-$E$1) -> 17505.44
A40: 39 | B40: 542120 | C40: Aufwendungen für die freiwillige Feuerwehr | D40: a | E40: 39818.52 | F40: =+VLOOKUP(D40,Indices!$C$2:$E$17,3,FALSE) -> 0.015 | G40: =+$E40*(1+$F40)^(G$1-$E$1) -> 40415.798 | H40: =+$E40*(1+$F40)^(H$1-$E$1) -> 41022.035 | I40: =+$E40*(1+$F40)^(I$1-$E$1) -> 41637.365
...

Sheet KST
A1: Kostenstellenrechnung | F1: =+KT!D1 -> 2016
G2: Kostenstellen
A3: Nr. | B3: Buchungsstelle | C3: Bezeichnung | D3: Aktiv | E3: Buchungs-schlüssel | F3: Wert | G3: =+Mengenschlüssel!E1 -> Fahrzeuge | H3: =+Mengenschlüssel!F1 -> Personal | I3: =+Mengenschlüssel!G1 -> Gebäude | J3: =+Mengenschlüssel!H1 -> Verwaltung | K3: =+Mengenschlüssel!I1 -> Summe | L3: Differenz
A4: =+KA!A2 -> 1 | B4: =+KA!B2 -> 414000 | C4: =+KA!C2 -> Zuweisungen vom Bund | D4: 0 | F4: =+HLOOKUP($F$1,KA!$G:$I,ROWS($1:2),FALSE) -> -727.6 | G4: =+IF($E4="",0,VLOOKUP($E4,Mengenschlüssel!$C$13:$H$22,COLUMNS($C:E),FALSE)*$F4*$D4) -> 0 | H4: =+IF($E4="",0,VLOOKUP($E4,Mengenschlüssel!$C$13:$H$22,COLUMNS($C:F),FALSE)*$F4*$D4) -> 0 | I4: =+IF($E4="",0,VLOOKUP($E4,Mengenschlüssel!$C$13:$H$22,COLUMNS($C:G),FALSE)*$F4*$D4) -> 0 | J4: =+IF($E4="",0,VLOOKUP($E4,Mengenschlüssel!$C$13:$H$22,COLUMNS($C:H),FALSE)*$F4*$D4) -> 0 | K4: =SUM(G4:J4) -> 0 | L4: =+K4-F4 -> 727.6
A5: =+KA!A3 -> 2 | B5: =+KA!B3 -> 414100 | C5: =+KA!C3 -> Zuweisungen vom Land | D5: 1 | E5: PE | F5: =+HLOOKUP($F$1,KA!$G:$I,ROWS($1:3),FALSE) -> -3932.09 | G5: =+IF($E5="",0,VLOOKUP($E5,Mengenschlüssel!$C$13:$H$22,COLUMNS($C:E),FALSE)*$F5*$D5) -> 0 | H5: =+IF($E5="",0,VLOOKUP($E5,Mengenschlüssel!$C$13:$H$22,COLUMNS($C:F),FALSE)*$F5*$D5) -> -3932.09 | I5: =+IF($E5="",0,VLOOKUP($E5,Mengenschlüssel!$C$13:$H$22,COLUMNS($C:G),FALSE)*$F5*$D5) -> 0 | J5: =+IF($E5="",0,VLOOKUP($E5,Mengenschlüssel!$C$13:$H$22,COLUMNS($C:H),FALSE)*$F5*$D5) -> 0 | K5: =SUM(G5:J5) -> -3932.09 | L5: =+K5-F5 -> 0
A6: =+KA!A4 -> 3 | B6: =+KA!B4 -> 416100 | C6: =+KA!C4 -> Erträge aus der Auflösung von Sonderposten aus Zuwendungen | D6: 0 | F6: =+HLOOKUP($F$1,KA!$G:$I,ROWS($1:4),FALSE) -> -39173.35 | G6: =+IF($E6="",0,VLOOKUP($E6,Mengenschlüssel!$C$13:$H$22,COLUMNS($C:E),FALSE)*$F6*$D6) -> 0 | H6: =+IF($E6="",0,VLOOKUP($E6,Mengenschlüssel!$C$13:$H$22,COLUMNS($C:F),FALSE)*$F6*$D6) -> 0 | I6: =+IF($E6="",0,VLOOKUP($E6,Mengenschlüssel!$C$13:$H$22,COLUMNS($C:G),FALSE)*$F6*$D6) -> 0 | J6: =+IF($E6="",0,VLOOKUP($E6,Mengenschlüssel!$C$13:$H$22,COLUMNS($C:H),FALSE)*$F6*$D6) -> 0 | K6: =SUM(G6:J6) -> 0 | L6: =+K6-F6 -> 39173.35
A7: =+KA!A5 -> 4 | B7: =+KA!B5 -> 432130 | C7: =+KA!C5 -> Entgelt für die Inanspruch nahme öffentlicher Dienste | D7: 0 | F7: =+HLOOKUP($F$1,KA!$G:$I,ROWS($1:5),FALSE) -> -37958.74 | G7: =+IF($E7="",0,VLOOKUP($E7,Mengenschlüssel!$C$13:$H$22,COLUMNS($C:E),FALSE)*$F7*$D7) -> 0 | H7: =+IF($E7="",0,VLOOKUP($E7,Mengenschlüssel!$C$13:$H$22,COLUMNS($C:F),FALSE)*$F7*$D7) -> 0 | I7: =+IF($E7="",0,VLOOKUP($E7,Mengenschlüssel!$C$13:$H$22,COLUMNS($C:G),FALSE)*$F7*$D7) -> 0 | J7: =+IF($E7="",0,VLOOKUP($E7,Mengenschlüssel!$C$13:$H$22,COLUMNS($C:H),FALSE)*$F7*$D7) -> 0 | K7: =SUM(G7:J7) -> 0 | L7: =+K7-F7 -> 37958.74
A8: =+KA!A6 -> 5 | B8: =+KA!B6 -> 446190 | C8: =+KA!C6 -> Sonstige privatrechliche Leistungsentgelte | D8: 0 | F8: =+HLOOKUP($F$1,KA!$G:$I,ROWS($1:6),FALSE) -> -2045.2 | G8: =+IF($E8="",0,VLOOKUP($E8,Mengenschlüssel!$C$13:$H$22,COLUMNS($C:E),FALSE)*$F8*$D8) -> 0 | H8: =+IF($E8="",0,VLOOKUP($E8,Mengenschlüssel!$C$13:$H$22,COLUMNS($C:F),FALSE)*$F8*$D8) -> 0 | I8: =+IF($E8="",0,VLOOKUP($E8,Mengenschlüssel!$C$13:$H$22,COLUMNS($C:G),FALSE)*$F8*$D8) -> 0 | J8: =+IF($E8="",0,VLOOKUP($E8,Mengenschlüssel!$C$13:$H$22,COLUMNS($C:H),FALSE)*$F8*$D8) -> 0 | K8: =SUM(G8:J8) -> 0 | L8: =+K8-F8 -> 2045.2
A9: =+KA!A7 -> 6 | B9: =+KA!B7 -> 448803 | C9: =+KA!C7 -> Erstattungen für Schadens fälle - durch Schadens verursacher/Versicherer | D9: 0 | F9: =+HLOOKUP($F$1,KA!$G:$I,ROWS($1:7),FALSE) -> -979.67 | G9: =+IF($E9="",0,VLOOKUP($E9,Mengenschlüssel!$C$13:$H$22,COLUMNS($C:E),FALSE)*$F9*$D9) -> 0 | H9: =+IF($E9="",0,VLOOKUP($E9,Mengenschlüssel!$C$13:$H$22,COLUMNS($C:F),FALSE)*$F9*$D9) -> 0 | I9: =+IF($E9="",0,VLOOKUP($E9,Mengenschlüssel!$C$13:$H$22,COLUMNS($C:G),FALSE)*$F9*$D9) -> 0 | J9: =+IF($E9="",0,VLOOKUP($E9,Mengenschlüssel!$C$13:$H$22,COLUMNS($C:H),FALSE)*$F9*$D9) -> 0 | K9: =SUM(G9:J9) -> 0 | L9: =+K9-F9 -> 979.67
A10: =+KA!A8 -> 7 | B10: =+KA!B8 -> 454290 | C10: =+KA!C8 -> VK Verkäufe von beweglichem Vermögen | D10: 0 | F10: =+HLOOKUP($F$1,KA!$G:$I,ROWS($1:8),FALSE) -> -21504 | G10: =+IF($E10="",0,VLOOKUP($E10,Mengenschlüssel!$C$13:$H$22,COLUMNS($C:E),FALSE)*$F10*$D10) -> 0 | H10: =+IF($E10="",0,VLOOKUP($E10,Mengenschlüssel!$C$13:$H$22,COLUMNS($C:F),FALSE)*$F10*$D10) -> 0 | I10: =+IF($E10="",0,VLOOKUP($E10,Mengenschlüssel!$C$13:$H$22,COLUMNS($C:G),FALSE)*$F10*$D10) -> 0 | J10: =+IF($E10="",0,VLOOKUP($E10,Mengenschlüssel!$C$13:$H$22,COLUMNS($C:H),FALSE)*$F10*$D10) -> 0 | K10: =SUM(G10:J10) -> 0 | L10: =+K10-F10 -> 21504
A11: =+KA!A9 -> 8 | B11: =+KA!B9 -> 458200 | C11: =+KA!C9 -> Auflösung/Herabsetzung RKSt | D11: 0 | F11: =+HLOOKUP($F$1,KA!$G:$I,ROWS($1:9),FALSE) -> -18579.72 | G11: =+IF($E11="",0,VLOOKUP($E11,Mengenschlüssel!$C$13:$H$22,COLUMNS($C:E),FALSE)*$F11*$D11) -> 0 | H11: =+IF($E11="",0,VLOOKUP($E11,Mengenschlüssel!$C$13:$H$22,COLUMNS($C:F),FALSE)*$F11*$D11) -> 0 | I11: =+IF($E11="",0,VLOOKUP($E11,Mengenschlüssel!$C$13:$H$22,COLUMNS($C:G),FALSE)*$F11*$D11) -> 0 | J11: =+IF($E11="",0,VLOOKUP($E11,Mengenschlüssel!$C$13:$H$22,COLUMNS($C:H),FALSE)*$F11*$D11) -> 0 | K11: =SUM(G11:J11) -> 0 | L11: =+K11-F11 -> 18579.72
A12: =+KA!A10 -> 9 | B12: =+KA!B10 -> 459100 | C12: =+KA!C10 -> Andere sonstige ordentliche Erträge | D12: 0 | F12: =+HLOOKUP($F$1,KA!$G:$I,ROWS($1:10),FALSE) -> -756 | G12: =+IF($E12="",0,VLOOKUP($E12,Mengenschlüssel!$C$13:$H$22,COLUMNS($C:E),FALSE)*$F12*$D12) -> 0 | H12: =+IF($E12="",0,VLOOKUP($E12,Mengenschlüssel!$C$13:$H$22,COLUMNS($C:F),FALSE)*$F12*$D12) -> 0 | I12: =+IF($E12="",0,VLOOKUP($E12,Mengenschlüssel!$C$13:$H$22,COLUMNS($C:G),FALSE)*$F12*$D12) -> 0 | J12: =+IF($E12="",0,VLOOKUP($E12,Mengenschlüssel!$C$13:$H$22,COLUMNS($C:H),FALSE)*$F12*$D12) -> 0 | K12: =SUM(G12:J12) -> 0 | L12: =+K12-F12 -> 756
A13: =+KA!A11 -> 10 | B13: =+KA!B11 -> 501101 | C13: =+KA!C11 -> Bezüge der Beamten | D13: 0 | F13: =+HLOOKUP($F$1,KA!$G:$I,ROWS($1:11),FALSE) -> 1122013.1 | G13: =+IF($E13="",0,VLOOKUP($E13,Mengenschlüssel!$C$13:$H$22,COLUMNS($C:E),FALSE)*$F13*$D13) -> 0 | H13: =+IF($E13="",0,VLOOKUP($E13,Mengenschlüssel!$C$13:$H$22,COLUMNS($C:F),FALSE)*$F13*$D13) -> 0 | I13: =+IF($E13="",0,VLOOKUP($E13,Mengenschlüssel!$C$13:$H$22,COLUMNS($C:G),FALSE)*$F13*$D13) -> 0 | J13: =+IF($E13="",0,VLOOKUP($E13,Mengenschlüssel!$C$13:$H$22,COLUMNS($C:H),FALSE)*$F13*$D13) -> 0 | K13: =SUM(G13:J13) -> 0 | L13: =+K13-F13 -> -1122013.1
A14: =+KA!A12 -> 11 | B14: =+KA!B12 -> 501201 | C14: =+KA!C12 -> Vergütungen der tariflich Beschäftigten | D14: 0 | F14: =+HLOOKUP($F$1,KA!$G:$I,ROWS($1:12),FALSE) -> 29395.46 | G14: =+IF($E14="",0,VLOOKUP($E14,Mengenschlüssel!$C$13:$H$22,COLUMNS($C:E),FALSE)*$F14*$D14) -> 0 | H14: =+IF($E14="",0,VLOOKUP($E14,Mengenschlüssel!$C$13:$H$22,COLUMNS($C:F),FALSE)*$F14*$D14) -> 0 | I14: =+IF($E14="",0,VLOOKUP($E14,Mengenschlüssel!$C$13:$H$22,COLUMNS($C:G),FALSE)*$F14*$D14) -> 0 | J14: =+IF($E14="",0,VLOOKUP($E14,Mengenschlüssel!$C$13:$H$22,COLUMNS($C:H),FALSE)*$F14*$D14) -> 0 | K14: =SUM(G14:J14) -> 0 | L14: =+K14-F14 -> -29395.46
A15: =+KA!A13 -> 12 | B15: =+KA!B13 -> 501996 | C15: =+KA!C13 -> Inanspruchnahme / Verbrauch sonstiger Gehalts-RKSt | D15: 0 | F15: =+HLOOKUP($F$1,KA!$G:$I,ROWS($1:13),FALSE) -> -145600.28 | G15: =+IF($E15="",0,VLOOKUP($E15,Mengenschlüssel!$C$13:$H$22,COLUMNS($C:E),FALSE)*$F15*$D15) -> 0 | H15: =+IF($E15="",0,VLOOKUP($E15,Mengenschlüssel!$C$13:$H$22,COLUMNS($C:F),FALSE)*$F15*$D15) -> 0 | I15: =+IF($E15="",0,VLOOKUP($E15,Mengenschlüssel!$C$13:$H$22,COLUMNS($C:G),FALSE)*$F15*$D15) -> 0 | J15: =+IF($E15="",0,VLOOKUP($E15,Mengenschlüssel!$C$13:$H$22,COLUMNS($C:H),FALSE)*$F15*$D15) -> 0 | K15: =SUM(G15:J15) -> 0 | L15: =+K15-F15 -> 145600.28
A16: =+KA!A14 -> 13 | B16: =+KA!B14 -> 502200 | C16: =+KA!C14 -> Beiträge zur Versorgungskasse für tariflich Beschäftigte | D16: 0 | F16: =+HLOOKUP($F$1,KA!$G:$I,ROWS($1:14),FALSE) -> 2201.3263 | G16: =+IF($E16="",0,VLOOKUP($E16,Mengenschlüssel!$C$13:$H$22,COLUMNS($C:E),FALSE)*$F16*$D16) -> 0 | H16: =+IF($E16="",0,VLOOKUP($E16,Mengenschlüssel!$C$13:$H$22,COLUMNS($C:F),FALSE)*$F16*$D16) -> 0 | I16: =+IF($E16="",0,VLOOKUP($E16,Mengenschlüssel!$C$13:$H$22,COLUMNS($C:G),FALSE)*$F16*$D16) -> 0 | J16: =+IF($E16="",0,VLOOKUP($E16,Mengenschlüssel!$C$13:$H$22,COLUMNS($C:H),FALSE)*$F16*$D16) -> 0 | K16: =SUM(G16:J16) -> 0 | L16: =+K16-F16 -> -2201.3263
A17: =+KA!A15 -> 14 | B17: =+KA!B15 -> 503201 | C17: =+KA!C15 -> Beiträge zur gesetzlichen Sozialversicherung aus lfd. Vergütung für tariflich Beschäftigte | D17: 0 | F17: =+HLOOKUP($F$1,KA!$G:$I,ROWS($1:15),FALSE) -> 5644.15 | G17: =+IF($E17="",0,VLOOKUP($E17,Mengenschlüssel!$C$13:$H$22,COLUMNS($C:E),FALSE)*$F17*$D17) -> 0 | H17: =+IF($E17="",0,VLOOKUP($E17,Mengenschlüssel!$C$13:$H$22,COLUMNS($C:F),FALSE)*$F17*$D17) -> 0 | I17: =+IF($E17="",0,VLOOKUP($E17,Mengenschlüssel!$C$13:$H$22,COLUMNS($C:G),FALSE)*$F17*$D17) -> 0 | J17: =+IF($E17="",0,VLOOKUP($E17,Mengenschlüssel!$C$13:$H$22,COLUMNS($C:H),FALSE)*$F17*$D17) -> 0 | K17: =SUM(G17:J17) -> 0 | L17: =+K17-F17 -> -5644.15
A18: =+KA!A16 -> 15 | B18: =+KA!B16 -> 504100 | C18: =+KA!C16 -> Beihilfen und Unterstützungsleistungen für Beschäftigte | D18: 0 | F18: =+HLOOKUP($F$1,KA!$G:$I,ROWS($1:16),FALSE) -> 74086.367 | G18: =+IF($E18="",0,VLOOKUP($E18,Mengenschlüssel!$C$13:$H$22,COLUMNS($C:E),FALSE)*$F18*$D18) -> 0 | H18: =+IF($E18="",0,VLOOKUP($E18,Mengenschlüssel!$C$13:$H$22,COLUMNS($C:F),FALSE)*$F18*$D18) -> 0 | I18: =+IF($E18="",0,VLOOKUP($E18,Mengenschlüssel!$C$13:$H$22,COLUMNS($C:G),FALSE)*$F18*$D18) -> 0 | J18: =+IF($E18="",0,VLOOKUP($E18,Mengenschlüssel!$C$13:$H$22,COLUMNS($C:H),FALSE)*$F18*$D18) -> 0 | K18: =SUM(G18:J18) -> 0 | L18: =+K18-F18 -> -74086.367
A19: =+KA!A17 -> 16 | B19: =+KA!B17 -> 505100 | C19: =+KA!C17 -> Zuführungen zu Pensionsrückstellungen für Beamte | D19: 0 | F19: =+HLOOKUP($F$1,KA!$G:$I,ROWS($1:17),FALSE) -> 276114.94 | G19: =+IF($E19="",0,VLOOKUP($E19,Mengenschlüssel!$C$13:$H$22,COLUMNS($C:E),FALSE)*$F19*$D19) -> 0 | H19: =+IF($E19="",0,VLOOKUP($E19,Mengenschlüssel!$C$13:$H$22,COLUMNS($C:F),FALSE)*$F19*$D19) -> 0 | I19: =+IF($E19="",0,VLOOKUP($E19,Mengenschlüssel!$C$13:$H$22,COLUMNS($C:G),FALSE)*$F19*$D19) -> 0 | J19: =+IF($E19="",0,VLOOKUP($E19,Mengenschlüssel!$C$13:$H$22,COLUMNS($C:H),FALSE)*$F19*$D19) -> 0 | K19: =SUM(G19:J19) -> 0 | L19: =+K19-F19 -> -276114.94
A20: =+KA!A18 -> 17 | B20: =+KA!B18 -> 506100 | C20: =+KA!C18 -> Zuführungen zu Beihilferückstellung für Beamte | D20: 0 | F20: =+HLOOKUP($F$1,KA!$G:$I,ROWS($1:18),FALSE) -> 94661.52 | G20: =+IF($E20="",0,VLOOKUP($E20,Mengenschlüssel!$C$13:$H$22,COLUMNS($C:E),FALSE)*$F20*$D20) -> 0 | H20: =+IF($E20="",0,VLOOKUP($E20,Mengenschlüssel!$C$13:$H$22,COLUMNS($C:F),FALSE)*$F20*$D20) -> 0 | I20: =+IF($E20="",0,VLOOKUP($E20,Mengenschlüssel!$C$13:$H$22,COLUMNS($C:G),FALSE)*$F20*$D20) -> 0 | J20: =+IF($E20="",0,VLOOKUP($E20,Mengenschlüssel!$C$13:$H$22,COLUMNS($C:H),FALSE)*$F20*$D20) -> 0 | K20: =SUM(G20:J20) -> 0 | L20: =+K20-F20 -> -94661.52
A21: =+KA!A19 -> 18 | B21: =+KA!B19 -> 521110 | C21: =+KA!C19 -> Unterhaltung der bebauten Grundstücke, Gebäude und baulichen Anlagen - Unabdingbares | D21: 1 | E21: Gb | F21: =+HLOOKUP($F$1,KA!$G:$I,ROWS($1:19),FALSE) -> 75248.007 | G21: =+IF($E21="",0,VLOOKUP($E21,Mengenschlüssel!$C$13:$H$22,COLUMNS($C:E),FALSE)*$F21*$D21) -> 0 | H21: =+IF($E21="",0,VLOOKUP($E21,Mengenschlüssel!$C$13:$H$22,COLUMNS($C:F),FALSE)*$F21*$D21) -> 0 | I21: =+IF($E21="",0,VLOOKUP($E21,Mengenschlüssel!$C$13:$H$22,COLUMNS($C:G),FALSE)*$F21*$D21) -> 75248.007 | J21: =+IF($E21="",0,VLOOKUP($E21,Mengenschlüssel!$C$13:$H$22,COLUMNS($C:H),FALSE)*$F21*$D21) -> 0 | K21: =SUM(G21:J21) -> 75248.007 | L21: =+K21-F21 -> 0
A22: =+KA!A20 -> 19 | B22: =+KA!B20 -> 521120 | C22: =+KA!C20 -> Unterhaltung der bebauten Grundstücke, Gebäude und baulichen Anlagen - begrünte Außenanlagen | D22: 1 | E22: Gb | F22: =+HLOOKUP($F$1,KA!$G:$I,ROWS($1:20),FALSE) -> 168.84525 | G22: =+IF($E22="",0,VLOOKUP($E22,Mengenschlüssel!$C$13:$H$22,COLUMNS($C:E),FALSE)*$F22*$D22) -> 0 | H22: =+IF($E22="",0,VLOOKUP($E22,Mengenschlüssel!$C$13:$H$22,COLUMNS($C:F),FALSE)*$F22*$D22) -> 0 | I22: =+IF($E22="",0,VLOOKUP($E22,Mengenschlüssel!$C$13:$H$22,COLUMNS($C:G),FALSE)*$F22*$D22) -> 168.84525 | J22: =+IF($E22="",0,VLOOKUP($E22,Mengenschlüssel!$C$13:$H$22,COLUMNS($C:H),FALSE)*$F22*$D22) -> 0 | K22: =SUM(G22:J22) -> 168.84525 | L22: =+K22-F22 -> 0
A23: =+KA!A21 -> 20 | B23: =+KA!B21 -> 523500 | C23: =+KA!C21 -> Erstattungen an verbundene Unternehmen, Beteiligungen und Sondervermögen | D23: 1 | E23: VW | F23: =+HLOOKUP($F$1,KA!$G:$I,ROWS($1:21),FALSE) -> 18623.506 | G23: =+IF($E23="",0,VLOOKUP($E23,Mengenschlüssel!$C$13:$H$22,COLUMNS($C:E),FALSE)*$F23*$D23) -> 0 | H23: =+IF($E23="",0,VLOOKUP($E23,Mengenschlüssel!$C$13:$H$22,COLUMNS($C:F),FALSE)*$F23*$D23) -> 0 | I23: =+IF($E23="",0,VLOOKUP($E23,Mengenschlüssel!$C$13:$H$22,COLUMNS($C:G),FALSE)*$F23*$D23) -> 0 | J23: =+IF($E23="",0,VLOOKUP($E23,Mengenschlüssel!$C$13:$H$22,COLUMNS($C:H),FALSE)*$F23*$D23) -> 18623.506 | K23: =SUM(G23:J23) -> 18623.506 | L23: =+K23-F23 -> 0
